BEGIN:VCALENDAR
VERSION:2.0
PRODID:-//100% Suspension - ECPv6.15.20//NONSGML v1.0//EN
CALSCALE:GREGORIAN
METHOD:PUBLISH
X-WR-CALNAME:100% Suspension
X-ORIGINAL-URL:http://www.100pcsuspension.co.uk
X-WR-CALDESC:Events for 100% Suspension
REFRESH-INTERVAL;VALUE=DURATION:PT1H
X-Robots-Tag:noindex
X-PUBLISHED-TTL:PT1H
BEGIN:VTIMEZONE
TZID:Europe/London
BEGIN:DAYLIGHT
TZOFFSETFROM:+0000
TZOFFSETTO:+0100
TZNAME:BST
DTSTART:20250330T010000
END:DAYLIGHT
BEGIN:STANDARD
TZOFFSETFROM:+0100
TZOFFSETTO:+0000
TZNAME:GMT
DTSTART:20251026T010000
END:STANDARD
BEGIN:DAYLIGHT
TZOFFSETFROM:+0000
TZOFFSETTO:+0100
TZNAME:BST
DTSTART:20260329T010000
END:DAYLIGHT
BEGIN:STANDARD
TZOFFSETFROM:+0100
TZOFFSETTO:+0000
TZNAME:GMT
DTSTART:20261025T010000
END:STANDARD
BEGIN:DAYLIGHT
TZOFFSETFROM:+0000
TZOFFSETTO:+0100
TZNAME:BST
DTSTART:20270328T010000
END:DAYLIGHT
BEGIN:STANDARD
TZOFFSETFROM:+0100
TZOFFSETTO:+0000
TZNAME:GMT
DTSTART:20271031T010000
END:STANDARD
END:VTIMEZONE
BEGIN:VEVENT
DTSTART;TZID=Europe/London:20260519T080000
DTEND;TZID=Europe/London:20260519T170000
DTSTAMP:20260421T204330
CREATED:20260206T175517Z
LAST-MODIFIED:20260206T175517Z
UID:2384-1779177600-1779210000@www.100pcsuspension.co.uk
SUMMARY:OULTON PARK  MSVT
DESCRIPTION:
URL:http://www.100pcsuspension.co.uk/event/oulton-park-msvt-19/
END:VEVENT
END:VCALENDAR