BEGIN:VCALENDAR
VERSION:2.0
PRODID:-//100% Suspension - ECPv6.15.20//NONSGML v1.0//EN
CALSCALE:GREGORIAN
METHOD:PUBLISH
X-WR-CALNAME:100% Suspension
X-ORIGINAL-URL:http://www.100pcsuspension.co.uk
X-WR-CALDESC:Events for 100% Suspension
REFRESH-INTERVAL;VALUE=DURATION:PT1H
X-Robots-Tag:noindex
X-PUBLISHED-TTL:PT1H
BEGIN:VTIMEZONE
TZID:Europe/London
BEGIN:DAYLIGHT
TZOFFSETFROM:+0000
TZOFFSETTO:+0100
TZNAME:BST
DTSTART:20240331T010000
END:DAYLIGHT
BEGIN:STANDARD
TZOFFSETFROM:+0100
TZOFFSETTO:+0000
TZNAME:GMT
DTSTART:20241027T010000
END:STANDARD
BEGIN:DAYLIGHT
TZOFFSETFROM:+0000
TZOFFSETTO:+0100
TZNAME:BST
DTSTART:20250330T010000
END:DAYLIGHT
BEGIN:STANDARD
TZOFFSETFROM:+0100
TZOFFSETTO:+0000
TZNAME:GMT
DTSTART:20251026T010000
END:STANDARD
BEGIN:DAYLIGHT
TZOFFSETFROM:+0000
TZOFFSETTO:+0100
TZNAME:BST
DTSTART:20260329T010000
END:DAYLIGHT
BEGIN:STANDARD
TZOFFSETFROM:+0100
TZOFFSETTO:+0000
TZNAME:GMT
DTSTART:20261025T010000
END:STANDARD
BEGIN:DAYLIGHT
TZOFFSETFROM:+0000
TZOFFSETTO:+0100
TZNAME:BST
DTSTART:20270328T010000
END:DAYLIGHT
BEGIN:STANDARD
TZOFFSETFROM:+0100
TZOFFSETTO:+0000
TZNAME:GMT
DTSTART:20271031T010000
END:STANDARD
END:VTIMEZONE
BEGIN:VEVENT
DTSTART;TZID=Europe/London:20260429T080000
DTEND;TZID=Europe/London:20260429T170000
DTSTAMP:20260421T223344
CREATED:20260124T151857Z
LAST-MODIFIED:20260124T151857Z
UID:2351-1777449600-1777482000@www.100pcsuspension.co.uk
SUMMARY:SNETTERTON  MSVT
DESCRIPTION:
URL:http://www.100pcsuspension.co.uk/event/snetterton-msvt-33/
END:VEVENT
BEGIN:VEVENT
DTSTART;TZID=Europe/London:20260428T080000
DTEND;TZID=Europe/London:20260428T170000
DTSTAMP:20260421T223344
CREATED:20260125T155352Z
LAST-MODIFIED:20260125T155352Z
UID:2370-1777363200-1777395600@www.100pcsuspension.co.uk
SUMMARY:DONINGTON PARK  NO LIMITS
DESCRIPTION:
URL:http://www.100pcsuspension.co.uk/event/donington-park-no-limits-23/
END:VEVENT
BEGIN:VEVENT
DTSTART;TZID=Europe/London:20260427T080000
DTEND;TZID=Europe/London:20260427T170000
DTSTAMP:20260421T223344
CREATED:20251217T195816Z
LAST-MODIFIED:20251217T195816Z
UID:2346-1777276800-1777309200@www.100pcsuspension.co.uk
SUMMARY:DONINGTON PARK   MSVT
DESCRIPTION:
URL:http://www.100pcsuspension.co.uk/event/donington-park-msvt-35/
END:VEVENT
BEGIN:VEVENT
DTSTART;TZID=Europe/London:20260424T080000
DTEND;TZID=Europe/London:20260426T170000
DTSTAMP:20260421T223344
CREATED:20251128T194658Z
LAST-MODIFIED:20251128T194658Z
UID:2312-1777017600-1777222800@www.100pcsuspension.co.uk
SUMMARY:DONINGTON PARK  NO LIMITS RACING
DESCRIPTION:
URL:http://www.100pcsuspension.co.uk/event/donington-park-no-limits-racing-4/
END:VEVENT
BEGIN:VEVENT
DTSTART;TZID=Europe/London:20260423T080000
DTEND;TZID=Europe/London:20260423T170000
DTSTAMP:20260421T223344
CREATED:20260125T155321Z
LAST-MODIFIED:20260125T155321Z
UID:2368-1776931200-1776963600@www.100pcsuspension.co.uk
SUMMARY:DONINGTON PARK   NO LIMITS
DESCRIPTION:
URL:http://www.100pcsuspension.co.uk/event/donington-park-no-limits-22/
END:VEVENT
BEGIN:VEVENT
DTSTART;TZID=Europe/London:20260422T080000
DTEND;TZID=Europe/London:20260422T170000
DTSTAMP:20260421T223344
CREATED:20251217T195733Z
LAST-MODIFIED:20251217T195733Z
UID:2344-1776844800-1776877200@www.100pcsuspension.co.uk
SUMMARY:DONINGTON PARK   MSVT
DESCRIPTION:
URL:http://www.100pcsuspension.co.uk/event/donington-park-msvt-34/
END:VEVENT
BEGIN:VEVENT
DTSTART;TZID=Europe/London:20260420T080000
DTEND;TZID=Europe/London:20260420T170000
DTSTAMP:20260421T223344
CREATED:20260127T150714Z
LAST-MODIFIED:20260127T150714Z
UID:2372-1776672000-1776704400@www.100pcsuspension.co.uk
SUMMARY:SNETTERTON   NO LIMITS
DESCRIPTION:
URL:http://www.100pcsuspension.co.uk/event/snetterton-no-limits-2/
END:VEVENT
BEGIN:VEVENT
DTSTART;TZID=Europe/London:20260415T080000
DTEND;TZID=Europe/London:20260415T170000
DTSTAMP:20260421T223344
CREATED:20260125T155229Z
LAST-MODIFIED:20260125T155229Z
UID:2366-1776240000-1776272400@www.100pcsuspension.co.uk
SUMMARY:OULTON PARK  NO LIMITS
DESCRIPTION:
URL:http://www.100pcsuspension.co.uk/event/oulton-park-no-limits-8/
END:VEVENT
BEGIN:VEVENT
DTSTART;TZID=Europe/London:20260413T080000
DTEND;TZID=Europe/London:20260413T170000
DTSTAMP:20260421T223344
CREATED:20251217T195545Z
LAST-MODIFIED:20251217T195639Z
UID:2341-1776067200-1776099600@www.100pcsuspension.co.uk
SUMMARY:SNETTERTON   MSVT
DESCRIPTION:
URL:http://www.100pcsuspension.co.uk/event/snetterton-masvt/
END:VEVENT
BEGIN:VEVENT
DTSTART;TZID=Europe/London:20260407T080000
DTEND;TZID=Europe/London:20260407T170000
DTSTAMP:20260421T223344
CREATED:20251217T195503Z
LAST-MODIFIED:20251217T195503Z
UID:2339-1775548800-1775581200@www.100pcsuspension.co.uk
SUMMARY:OULTON PARK   MSVT
DESCRIPTION:
URL:http://www.100pcsuspension.co.uk/event/oulton-park-msvt-18/
END:VEVENT
BEGIN:VEVENT
DTSTART;TZID=Europe/London:20260406T080000
DTEND;TZID=Europe/London:20260406T170000
DTSTAMP:20260421T223344
CREATED:20251217T195418Z
LAST-MODIFIED:20251217T195418Z
UID:2337-1775462400-1775494800@www.100pcsuspension.co.uk
SUMMARY:CADWELL PARK  MSVT
DESCRIPTION:
URL:http://www.100pcsuspension.co.uk/event/cadwell-park-msvt-23/
END:VEVENT
BEGIN:VEVENT
DTSTART;TZID=Europe/London:20260403T080000
DTEND;TZID=Europe/London:20260403T170000
DTSTAMP:20260421T223344
CREATED:20260125T155159Z
LAST-MODIFIED:20260125T155159Z
UID:2364-1775203200-1775235600@www.100pcsuspension.co.uk
SUMMARY:CADWELL PARK   NO LIMITS
DESCRIPTION:
URL:http://www.100pcsuspension.co.uk/event/cadwell-park-no-limits-10/
END:VEVENT
BEGIN:VEVENT
DTSTART;TZID=Europe/London:20260323T080000
DTEND;TZID=Europe/London:20260323T170000
DTSTAMP:20260421T223344
CREATED:20260125T154730Z
LAST-MODIFIED:20260125T154730Z
UID:2360-1774252800-1774285200@www.100pcsuspension.co.uk
SUMMARY:DONINGTON PARK   NO LIMITS
DESCRIPTION:DONINGTON PARK
URL:http://www.100pcsuspension.co.uk/event/donington-park-no-limits-21/
END:VEVENT
BEGIN:VEVENT
DTSTART;TZID=Europe/London:20260320T080000
DTEND;TZID=Europe/London:20260322T170000
DTSTAMP:20260421T223344
CREATED:20251128T194541Z
LAST-MODIFIED:20251128T194541Z
UID:2310-1773993600-1774198800@www.100pcsuspension.co.uk
SUMMARY:SNETTERTON  NO LIMITS RACING
DESCRIPTION:
URL:http://www.100pcsuspension.co.uk/event/snetterton-no-limits-racing-2/
END:VEVENT
BEGIN:VEVENT
DTSTART;TZID=Europe/London:20260319T080000
DTEND;TZID=Europe/London:20260319T170000
DTSTAMP:20260421T223344
CREATED:20260125T154650Z
LAST-MODIFIED:20260125T154650Z
UID:2358-1773907200-1773939600@www.100pcsuspension.co.uk
SUMMARY:SNETTERTON  NO LIMITS
DESCRIPTION:
URL:http://www.100pcsuspension.co.uk/event/snetterton-no-limits/
END:VEVENT
BEGIN:VEVENT
DTSTART;TZID=Europe/London:20260316T080000
DTEND;TZID=Europe/London:20260316T170000
DTSTAMP:20260421T223344
CREATED:20251201T155536Z
LAST-MODIFIED:20251201T155536Z
UID:2335-1773648000-1773680400@www.100pcsuspension.co.uk
SUMMARY:SNETTERTON   MSVT
DESCRIPTION:
URL:http://www.100pcsuspension.co.uk/event/snetterton-msvt-32/
END:VEVENT
BEGIN:VEVENT
DTSTART;TZID=Europe/London:20260314T080000
DTEND;TZID=Europe/London:20260314T170000
DTSTAMP:20260421T223344
CREATED:20251201T155504Z
LAST-MODIFIED:20251201T155504Z
UID:2333-1773475200-1773507600@www.100pcsuspension.co.uk
SUMMARY:OULTON PARK   MSVT
DESCRIPTION:
URL:http://www.100pcsuspension.co.uk/event/oulton-park-msvt-17/
END:VEVENT
BEGIN:VEVENT
DTSTART;TZID=Europe/London:20260307T080000
DTEND;TZID=Europe/London:20260307T170000
DTSTAMP:20260421T223344
CREATED:20251201T155435Z
LAST-MODIFIED:20251201T155435Z
UID:2331-1772870400-1772902800@www.100pcsuspension.co.uk
SUMMARY:DONINGTON PARK   MSVT
DESCRIPTION:
URL:http://www.100pcsuspension.co.uk/event/donington-park-msvt-33/
END:VEVENT
BEGIN:VEVENT
DTSTART;TZID=Europe/London:20260306T080000
DTEND;TZID=Europe/London:20260306T170000
DTSTAMP:20260421T223344
CREATED:20251201T155355Z
LAST-MODIFIED:20251201T155355Z
UID:2329-1772784000-1772816400@www.100pcsuspension.co.uk
SUMMARY:CADWELL PARK  MSVT
DESCRIPTION:
URL:http://www.100pcsuspension.co.uk/event/cadwell-park-msvt-22/
END:VEVENT
BEGIN:VEVENT
DTSTART;TZID=Europe/London:20260227T080000
DTEND;TZID=Europe/London:20260228T170000
DTSTAMP:20260421T223344
CREATED:20260125T154615Z
LAST-MODIFIED:20260125T154615Z
UID:2356-1772179200-1772298000@www.100pcsuspension.co.uk
SUMMARY:DONINGTON PARK  NO LIMITS
DESCRIPTION:DONINGTON PARK
URL:http://www.100pcsuspension.co.uk/event/donington-park-no-limits-20/
END:VEVENT
BEGIN:VEVENT
DTSTART;TZID=Europe/London:20260221T080000
DTEND;TZID=Europe/London:20260221T170000
DTSTAMP:20260421T223344
CREATED:20260125T154533Z
LAST-MODIFIED:20260125T154533Z
UID:2354-1771660800-1771693200@www.100pcsuspension.co.uk
SUMMARY:OULTON PARK  NO LIMITS
DESCRIPTION:
URL:http://www.100pcsuspension.co.uk/event/oulton-park-no-limits-6/
END:VEVENT
BEGIN:VEVENT
DTSTART;TZID=Europe/London:20251030T080000
DTEND;TZID=Europe/London:20251030T170000
DTSTAMP:20260421T223344
CREATED:20250903T164410Z
LAST-MODIFIED:20250903T164410Z
UID:2307-1761811200-1761843600@www.100pcsuspension.co.uk
SUMMARY:DONINGTON PARK  NO LIMITS
DESCRIPTION:
URL:http://www.100pcsuspension.co.uk/event/donington-park-no-limits-19/
END:VEVENT
BEGIN:VEVENT
DTSTART;TZID=Europe/London:20251029T080000
DTEND;TZID=Europe/London:20251029T170000
DTSTAMP:20260421T223344
CREATED:20250903T164344Z
LAST-MODIFIED:20250903T164344Z
UID:2305-1761724800-1761757200@www.100pcsuspension.co.uk
SUMMARY:OULTON PARK  NO LIMITS
DESCRIPTION:
URL:http://www.100pcsuspension.co.uk/event/oulton-park-no-limits-4/
END:VEVENT
BEGIN:VEVENT
DTSTART;TZID=Europe/London:20251027T080000
DTEND;TZID=Europe/London:20251027T170000
DTSTAMP:20260421T223344
CREATED:20250903T164319Z
LAST-MODIFIED:20250903T164319Z
UID:2303-1761552000-1761584400@www.100pcsuspension.co.uk
SUMMARY:CADWELL PARK  NO LIMITS
DESCRIPTION:
URL:http://www.100pcsuspension.co.uk/event/cadwell-park-no-limits-9/
END:VEVENT
BEGIN:VEVENT
DTSTART;TZID=Europe/London:20251026T080000
DTEND;TZID=Europe/London:20251026T170000
DTSTAMP:20260421T223344
CREATED:20250903T164248Z
LAST-MODIFIED:20250903T164248Z
UID:2301-1761465600-1761498000@www.100pcsuspension.co.uk
SUMMARY:DONINGTON PARK  NO LIMITS
DESCRIPTION:
URL:http://www.100pcsuspension.co.uk/event/donington-park-no-limits-18/
END:VEVENT
BEGIN:VEVENT
DTSTART;TZID=Europe/London:20251024T080000
DTEND;TZID=Europe/London:20251024T170000
DTSTAMP:20260421T223344
CREATED:20250903T164217Z
LAST-MODIFIED:20250903T164217Z
UID:2299-1761292800-1761325200@www.100pcsuspension.co.uk
SUMMARY:SNETTERTON   MSVT
DESCRIPTION:
URL:http://www.100pcsuspension.co.uk/event/snetterton-msvt-31/
END:VEVENT
BEGIN:VEVENT
DTSTART;TZID=Europe/London:20251020T080000
DTEND;TZID=Europe/London:20251020T170000
DTSTAMP:20260421T223344
CREATED:20250903T164151Z
LAST-MODIFIED:20250903T164151Z
UID:2297-1760947200-1760979600@www.100pcsuspension.co.uk
SUMMARY:DONINGTON PARK   MSVT
DESCRIPTION:
URL:http://www.100pcsuspension.co.uk/event/donington-park-msvt-32/
END:VEVENT
BEGIN:VEVENT
DTSTART;TZID=Europe/London:20251016T080000
DTEND;TZID=Europe/London:20251019T170000
DTSTAMP:20260421T223344
CREATED:20241106T210615Z
LAST-MODIFIED:20241106T210615Z
UID:2135-1760601600-1760893200@www.100pcsuspension.co.uk
SUMMARY:BRANDS HATCH   BSB RD 11
DESCRIPTION:
URL:http://www.100pcsuspension.co.uk/event/brands-hatch-bsb-rd-11-2/
END:VEVENT
BEGIN:VEVENT
DTSTART;TZID=Europe/London:20251013T080000
DTEND;TZID=Europe/London:20251013T170000
DTSTAMP:20260421T223344
CREATED:20250903T164124Z
LAST-MODIFIED:20250903T164124Z
UID:2295-1760342400-1760374800@www.100pcsuspension.co.uk
SUMMARY:CADWELL PARK   NO LIMITS
DESCRIPTION:
URL:http://www.100pcsuspension.co.uk/event/cadwell-park-no-limits-8/
END:VEVENT
BEGIN:VEVENT
DTSTART;TZID=Europe/London:20251011T080000
DTEND;TZID=Europe/London:20251011T170000
DTSTAMP:20260421T223344
CREATED:20250903T164056Z
LAST-MODIFIED:20250903T164056Z
UID:2293-1760169600-1760202000@www.100pcsuspension.co.uk
SUMMARY:CADWELL PARK   MSVT
DESCRIPTION:
URL:http://www.100pcsuspension.co.uk/event/cadwell-park-msvt-21/
END:VEVENT
END:VCALENDAR