BEGIN:VCALENDAR
VERSION:2.0
PRODID:-//100% Suspension - ECPv6.15.20//NONSGML v1.0//EN
CALSCALE:GREGORIAN
METHOD:PUBLISH
X-WR-CALNAME:100% Suspension
X-ORIGINAL-URL:http://www.100pcsuspension.co.uk
X-WR-CALDESC:Events for 100% Suspension
REFRESH-INTERVAL;VALUE=DURATION:PT1H
X-Robots-Tag:noindex
X-PUBLISHED-TTL:PT1H
BEGIN:VTIMEZONE
TZID:Europe/London
BEGIN:DAYLIGHT
TZOFFSETFROM:+0000
TZOFFSETTO:+0100
TZNAME:BST
DTSTART:20240331T010000
END:DAYLIGHT
BEGIN:STANDARD
TZOFFSETFROM:+0100
TZOFFSETTO:+0000
TZNAME:GMT
DTSTART:20241027T010000
END:STANDARD
BEGIN:DAYLIGHT
TZOFFSETFROM:+0000
TZOFFSETTO:+0100
TZNAME:BST
DTSTART:20250330T010000
END:DAYLIGHT
BEGIN:STANDARD
TZOFFSETFROM:+0100
TZOFFSETTO:+0000
TZNAME:GMT
DTSTART:20251026T010000
END:STANDARD
BEGIN:DAYLIGHT
TZOFFSETFROM:+0000
TZOFFSETTO:+0100
TZNAME:BST
DTSTART:20260329T010000
END:DAYLIGHT
BEGIN:STANDARD
TZOFFSETFROM:+0100
TZOFFSETTO:+0000
TZNAME:GMT
DTSTART:20261025T010000
END:STANDARD
END:VTIMEZONE
BEGIN:VEVENT
DTSTART;TZID=Europe/London:20250215T080000
DTEND;TZID=Europe/London:20250215T170000
DTSTAMP:20260421T211857
CREATED:20250113T100137Z
LAST-MODIFIED:20250113T100137Z
UID:2168-1739606400-1739638800@www.100pcsuspension.co.uk
SUMMARY:CADWELL PARK   NO LIMITS
DESCRIPTION:
URL:http://www.100pcsuspension.co.uk/event/cadwell-park-no-limits-4/
END:VEVENT
BEGIN:VEVENT
DTSTART;TZID=Europe/London:20250223T080000
DTEND;TZID=Europe/London:20250223T170000
DTSTAMP:20260421T211857
CREATED:20250113T100209Z
LAST-MODIFIED:20250113T100209Z
UID:2170-1740297600-1740330000@www.100pcsuspension.co.uk
SUMMARY:CADWELL PARK   NO LIMITS
DESCRIPTION:
URL:http://www.100pcsuspension.co.uk/event/cadwell-park-no-limits-5/
END:VEVENT
BEGIN:VEVENT
DTSTART;TZID=Europe/London:20250227T080000
DTEND;TZID=Europe/London:20250227T170000
DTSTAMP:20260421T211857
CREATED:20250113T100247Z
LAST-MODIFIED:20250113T100247Z
UID:2172-1740643200-1740675600@www.100pcsuspension.co.uk
SUMMARY:DONINGTON PARK   NO LIMITS
DESCRIPTION:
URL:http://www.100pcsuspension.co.uk/event/donington-park-no-limits-6/
END:VEVENT
BEGIN:VEVENT
DTSTART;TZID=Europe/London:20250302T080000
DTEND;TZID=Europe/London:20250302T170000
DTSTAMP:20260421T211857
CREATED:20241211T113520Z
LAST-MODIFIED:20241211T113520Z
UID:2148-1740902400-1740934800@www.100pcsuspension.co.uk
SUMMARY:DONINGTON PARK   MSVT
DESCRIPTION:
URL:http://www.100pcsuspension.co.uk/event/donington-park-msvt-21/
END:VEVENT
BEGIN:VEVENT
DTSTART;TZID=Europe/London:20250307T080000
DTEND;TZID=Europe/London:20250307T170000
DTSTAMP:20260421T211857
CREATED:20241113T171238Z
LAST-MODIFIED:20241113T171238Z
UID:2138-1741334400-1741366800@www.100pcsuspension.co.uk
SUMMARY:CADWELL PARK   MSVT
DESCRIPTION:
URL:http://www.100pcsuspension.co.uk/event/cadwell-park-msvt-14/
END:VEVENT
BEGIN:VEVENT
DTSTART;TZID=Europe/London:20250308T080000
DTEND;TZID=Europe/London:20250308T170000
DTSTAMP:20260421T211857
CREATED:20250113T100315Z
LAST-MODIFIED:20250113T100315Z
UID:2174-1741420800-1741453200@www.100pcsuspension.co.uk
SUMMARY:CADWELL PARK   NO LIMITS
DESCRIPTION:
URL:http://www.100pcsuspension.co.uk/event/cadwell-park-no-limits-6/
END:VEVENT
BEGIN:VEVENT
DTSTART;TZID=Europe/London:20250315T080000
DTEND;TZID=Europe/London:20250315T170000
DTSTAMP:20260421T211857
CREATED:20250113T100346Z
LAST-MODIFIED:20250113T100346Z
UID:2176-1742025600-1742058000@www.100pcsuspension.co.uk
SUMMARY:CADWELL PARK   NO LIMITS
DESCRIPTION:
URL:http://www.100pcsuspension.co.uk/event/cadwell-park-no-limits-7/
END:VEVENT
BEGIN:VEVENT
DTSTART;TZID=Europe/London:20250317T080000
DTEND;TZID=Europe/London:20250317T170000
DTSTAMP:20260421T211857
CREATED:20241113T171312Z
LAST-MODIFIED:20241113T171312Z
UID:2140-1742198400-1742230800@www.100pcsuspension.co.uk
SUMMARY:CADWELL PARK   MSVT
DESCRIPTION:
URL:http://www.100pcsuspension.co.uk/event/cadwell-park-msvt-15/
END:VEVENT
BEGIN:VEVENT
DTSTART;TZID=Europe/London:20250320T080000
DTEND;TZID=Europe/London:20250320T170000
DTSTAMP:20260421T211857
CREATED:20241113T171344Z
LAST-MODIFIED:20241113T171344Z
UID:2142-1742457600-1742490000@www.100pcsuspension.co.uk
SUMMARY:SNETTERTON   MSVT
DESCRIPTION:
URL:http://www.100pcsuspension.co.uk/event/snetterton-msvt-18/
END:VEVENT
BEGIN:VEVENT
DTSTART;TZID=Europe/London:20250321T080000
DTEND;TZID=Europe/London:20250323T170000
DTSTAMP:20260421T211857
CREATED:20241106T205128Z
LAST-MODIFIED:20241106T205128Z
UID:2093-1742544000-1742749200@www.100pcsuspension.co.uk
SUMMARY:SNETTERTON   NO LIMITS RACING
DESCRIPTION:
URL:http://www.100pcsuspension.co.uk/event/snetterton-no-limits-racing/
END:VEVENT
BEGIN:VEVENT
DTSTART;TZID=Europe/London:20250324T080000
DTEND;TZID=Europe/London:20250324T170000
DTSTAMP:20260421T211857
CREATED:20241113T171417Z
LAST-MODIFIED:20241113T171417Z
UID:2144-1742803200-1742835600@www.100pcsuspension.co.uk
SUMMARY:DONINGTON PARK   MSVT
DESCRIPTION:
URL:http://www.100pcsuspension.co.uk/event/donington-park-msvt-20/
END:VEVENT
BEGIN:VEVENT
DTSTART;TZID=Europe/London:20250329T080000
DTEND;TZID=Europe/London:20250329T170000
DTSTAMP:20260421T211857
CREATED:20241113T171445Z
LAST-MODIFIED:20241113T171445Z
UID:2146-1743235200-1743267600@www.100pcsuspension.co.uk
SUMMARY:SNETTERTON   MSVT
DESCRIPTION:
URL:http://www.100pcsuspension.co.uk/event/snetterton-msvt-19/
END:VEVENT
BEGIN:VEVENT
DTSTART;TZID=Europe/London:20250330T080000
DTEND;TZID=Europe/London:20250330T170000
DTSTAMP:20260421T211857
CREATED:20241211T113549Z
LAST-MODIFIED:20241211T113549Z
UID:2150-1743321600-1743354000@www.100pcsuspension.co.uk
SUMMARY:SNETTERTON   MSVT
DESCRIPTION:
URL:http://www.100pcsuspension.co.uk/event/snetterton-msvt-20/
END:VEVENT
BEGIN:VEVENT
DTSTART;TZID=Europe/London:20250331T080000
DTEND;TZID=Europe/London:20250331T170000
DTSTAMP:20260421T211857
CREATED:20250113T100414Z
LAST-MODIFIED:20250113T100414Z
UID:2178-1743408000-1743440400@www.100pcsuspension.co.uk
SUMMARY:DONINGTON PARK   NO LIMITS
DESCRIPTION:
URL:http://www.100pcsuspension.co.uk/event/donington-park-no-limits-7/
END:VEVENT
BEGIN:VEVENT
DTSTART;TZID=Europe/London:20250404T080000
DTEND;TZID=Europe/London:20250404T170000
DTSTAMP:20260421T211857
CREATED:20241218T165302Z
LAST-MODIFIED:20241218T165302Z
UID:2153-1743753600-1743786000@www.100pcsuspension.co.uk
SUMMARY:CADWELL PARK   MSVT
DESCRIPTION:
URL:http://www.100pcsuspension.co.uk/event/cadwell-park-msvt-16/
END:VEVENT
BEGIN:VEVENT
DTSTART;TZID=Europe/London:20250408T080000
DTEND;TZID=Europe/London:20250409T170000
DTSTAMP:20260421T211857
CREATED:20241218T165336Z
LAST-MODIFIED:20241218T165336Z
UID:2155-1744099200-1744218000@www.100pcsuspension.co.uk
SUMMARY:SNETTERTON   MSVT
DESCRIPTION:
URL:http://www.100pcsuspension.co.uk/event/snetterton-msvt-21/
END:VEVENT
BEGIN:VEVENT
DTSTART;TZID=Europe/London:20250414T080000
DTEND;TZID=Europe/London:20250414T170000
DTSTAMP:20260421T211857
CREATED:20250113T100719Z
LAST-MODIFIED:20250113T100719Z
UID:2180-1744617600-1744650000@www.100pcsuspension.co.uk
SUMMARY:DONINGTON PARK   NO LIMITS
DESCRIPTION:
URL:http://www.100pcsuspension.co.uk/event/donington-park-no-limits-8/
END:VEVENT
BEGIN:VEVENT
DTSTART;TZID=Europe/London:20250416T080000
DTEND;TZID=Europe/London:20250416T170000
DTSTAMP:20260421T211857
CREATED:20250226T115528Z
LAST-MODIFIED:20250226T115528Z
UID:2200-1744790400-1744822800@www.100pcsuspension.co.uk
SUMMARY:OULTON PARK   MSVT
DESCRIPTION:
URL:http://www.100pcsuspension.co.uk/event/oulton-park-msvt-11/
END:VEVENT
BEGIN:VEVENT
DTSTART;TZID=Europe/London:20250418T080000
DTEND;TZID=Europe/London:20250419T170000
DTSTAMP:20260421T211857
CREATED:20241106T205210Z
LAST-MODIFIED:20241106T205210Z
UID:2095-1744963200-1745082000@www.100pcsuspension.co.uk
SUMMARY:DONINGTON PARK  BSB TEST
DESCRIPTION:
URL:http://www.100pcsuspension.co.uk/event/donington-park-bsb-test-2/
END:VEVENT
BEGIN:VEVENT
DTSTART;TZID=Europe/London:20250420T080000
DTEND;TZID=Europe/London:20250420T170000
DTSTAMP:20260421T211857
CREATED:20241218T165404Z
LAST-MODIFIED:20241218T165404Z
UID:2157-1745136000-1745168400@www.100pcsuspension.co.uk
SUMMARY:CADWELL PARK   MSVT
DESCRIPTION:
URL:http://www.100pcsuspension.co.uk/event/cadwell-park-msvt-17/
END:VEVENT
BEGIN:VEVENT
DTSTART;TZID=Europe/London:20250422T080000
DTEND;TZID=Europe/London:20250422T170000
DTSTAMP:20260421T211857
CREATED:20241218T165435Z
LAST-MODIFIED:20241218T165435Z
UID:2159-1745308800-1745341200@www.100pcsuspension.co.uk
SUMMARY:DONINGTON PARK   MSVT
DESCRIPTION:
URL:http://www.100pcsuspension.co.uk/event/donington-park-msvt-22/
END:VEVENT
BEGIN:VEVENT
DTSTART;TZID=Europe/London:20250423T080000
DTEND;TZID=Europe/London:20250424T170000
DTSTAMP:20260421T211857
CREATED:20241106T205248Z
LAST-MODIFIED:20241106T205248Z
UID:2097-1745395200-1745514000@www.100pcsuspension.co.uk
SUMMARY:OULTON PARK   BSB TEST
DESCRIPTION:
URL:http://www.100pcsuspension.co.uk/event/oulton-park-bsb-test-2/
END:VEVENT
BEGIN:VEVENT
DTSTART;TZID=Europe/London:20250425T080000
DTEND;TZID=Europe/London:20250427T170000
DTSTAMP:20260421T211857
CREATED:20241106T205325Z
LAST-MODIFIED:20241106T205325Z
UID:2099-1745568000-1745773200@www.100pcsuspension.co.uk
SUMMARY:BRANDS HATCH   NO LIMITS RACING
DESCRIPTION:
URL:http://www.100pcsuspension.co.uk/event/brands-hatch-no-limits-racing-2/
END:VEVENT
BEGIN:VEVENT
DTSTART;TZID=Europe/London:20250429T080000
DTEND;TZID=Europe/London:20250429T170000
DTSTAMP:20260421T211857
CREATED:20250113T100756Z
LAST-MODIFIED:20250113T100756Z
UID:2182-1745913600-1745946000@www.100pcsuspension.co.uk
SUMMARY:DONINGTON PARK   NO LIMITS
DESCRIPTION:
URL:http://www.100pcsuspension.co.uk/event/donington-park-no-limits-9/
END:VEVENT
BEGIN:VEVENT
DTSTART;TZID=Europe/London:20250502T080000
DTEND;TZID=Europe/London:20250505T170000
DTSTAMP:20260421T211857
CREATED:20241106T205403Z
LAST-MODIFIED:20241106T205403Z
UID:2101-1746172800-1746464400@www.100pcsuspension.co.uk
SUMMARY:OULTON PARK   BSB RD 1
DESCRIPTION:
URL:http://www.100pcsuspension.co.uk/event/oulton-park-bsb-rd-1/
END:VEVENT
BEGIN:VEVENT
DTSTART;TZID=Europe/London:20250506T080000
DTEND;TZID=Europe/London:20250506T170000
DTSTAMP:20260421T211857
CREATED:20250124T194624Z
LAST-MODIFIED:20250124T194624Z
UID:2185-1746518400-1746550800@www.100pcsuspension.co.uk
SUMMARY:SNETTERTON   MSVT
DESCRIPTION:
URL:http://www.100pcsuspension.co.uk/event/snetterton-msvt-22/
END:VEVENT
BEGIN:VEVENT
DTSTART;TZID=Europe/London:20250509T080000
DTEND;TZID=Europe/London:20250509T170000
DTSTAMP:20260421T211857
CREATED:20250124T194903Z
LAST-MODIFIED:20250124T194903Z
UID:2187-1746777600-1746810000@www.100pcsuspension.co.uk
SUMMARY:DONINGTON PARK   BENNETTS BIKE SOCIAL
DESCRIPTION:
URL:http://www.100pcsuspension.co.uk/event/donington-park-bennetts-bike-social-2/
END:VEVENT
BEGIN:VEVENT
DTSTART;TZID=Europe/London:20250510T080000
DTEND;TZID=Europe/London:20250510T170000
DTSTAMP:20260421T211857
CREATED:20250124T194941Z
LAST-MODIFIED:20250124T194941Z
UID:2189-1746864000-1746896400@www.100pcsuspension.co.uk
SUMMARY:DONINGTON PARK   MSVT
DESCRIPTION:
URL:http://www.100pcsuspension.co.uk/event/donington-park-msvt-23/
END:VEVENT
BEGIN:VEVENT
DTSTART;TZID=Europe/London:20250511T080000
DTEND;TZID=Europe/London:20250511T170000
DTSTAMP:20260421T211857
CREATED:20250324T194709Z
LAST-MODIFIED:20250324T194709Z
UID:2217-1746950400-1746982800@www.100pcsuspension.co.uk
SUMMARY:DONINGTON PARK   NO LIMITS
DESCRIPTION:
URL:http://www.100pcsuspension.co.uk/event/donington-park-no-limits-10/
END:VEVENT
BEGIN:VEVENT
DTSTART;TZID=Europe/London:20250513T080000
DTEND;TZID=Europe/London:20250513T170000
DTSTAMP:20260421T211857
CREATED:20250124T195023Z
LAST-MODIFIED:20250124T195023Z
UID:2191-1747123200-1747155600@www.100pcsuspension.co.uk
SUMMARY:OULTON PARK   MSVT
DESCRIPTION:
URL:http://www.100pcsuspension.co.uk/event/oulton-park-msvt-10/
END:VEVENT
END:VCALENDAR