BEGIN:VCALENDAR
VERSION:2.0
PRODID:-//100% Suspension - ECPv6.15.20//NONSGML v1.0//EN
CALSCALE:GREGORIAN
METHOD:PUBLISH
X-WR-CALNAME:100% Suspension
X-ORIGINAL-URL:http://www.100pcsuspension.co.uk
X-WR-CALDESC:Events for 100% Suspension
REFRESH-INTERVAL;VALUE=DURATION:PT1H
X-Robots-Tag:noindex
X-PUBLISHED-TTL:PT1H
BEGIN:VTIMEZONE
TZID:Europe/London
BEGIN:DAYLIGHT
TZOFFSETFROM:+0000
TZOFFSETTO:+0100
TZNAME:BST
DTSTART:20220327T010000
END:DAYLIGHT
BEGIN:STANDARD
TZOFFSETFROM:+0100
TZOFFSETTO:+0000
TZNAME:GMT
DTSTART:20221030T010000
END:STANDARD
BEGIN:DAYLIGHT
TZOFFSETFROM:+0000
TZOFFSETTO:+0100
TZNAME:BST
DTSTART:20230326T010000
END:DAYLIGHT
BEGIN:STANDARD
TZOFFSETFROM:+0100
TZOFFSETTO:+0000
TZNAME:GMT
DTSTART:20231029T010000
END:STANDARD
BEGIN:DAYLIGHT
TZOFFSETFROM:+0000
TZOFFSETTO:+0100
TZNAME:BST
DTSTART:20240331T010000
END:DAYLIGHT
BEGIN:STANDARD
TZOFFSETFROM:+0100
TZOFFSETTO:+0000
TZNAME:GMT
DTSTART:20241027T010000
END:STANDARD
BEGIN:DAYLIGHT
TZOFFSETFROM:+0000
TZOFFSETTO:+0100
TZNAME:BST
DTSTART:20250330T010000
END:DAYLIGHT
BEGIN:STANDARD
TZOFFSETFROM:+0100
TZOFFSETTO:+0000
TZNAME:GMT
DTSTART:20251026T010000
END:STANDARD
END:VTIMEZONE
BEGIN:VEVENT
DTSTART;TZID=Europe/London:20240516T080000
DTEND;TZID=Europe/London:20240519T170000
DTSTAMP:20260422T225818
CREATED:20240103T155737Z
LAST-MODIFIED:20240103T155737Z
UID:1923-1715846400-1716138000@www.100pcsuspension.co.uk
SUMMARY:BSB DONINGTON PARK
DESCRIPTION:
URL:http://www.100pcsuspension.co.uk/event/bsb-donington-park/
END:VEVENT
BEGIN:VEVENT
DTSTART;TZID=Europe/London:20240515T080000
DTEND;TZID=Europe/London:20240515T170000
DTSTAMP:20260422T225818
CREATED:20240208T165535Z
LAST-MODIFIED:20240208T165535Z
UID:1975-1715760000-1715792400@www.100pcsuspension.co.uk
SUMMARY:MSVT DONINGTON PARK
DESCRIPTION:
URL:http://www.100pcsuspension.co.uk/event/msvt-donington-park-6/
END:VEVENT
BEGIN:VEVENT
DTSTART;TZID=Europe/London:20240513T080000
DTEND;TZID=Europe/London:20240513T170000
DTSTAMP:20260422T225818
CREATED:20240208T084719Z
LAST-MODIFIED:20240208T084719Z
UID:1964-1715587200-1715619600@www.100pcsuspension.co.uk
SUMMARY:MSVT  SNETTERTON
DESCRIPTION:
URL:http://www.100pcsuspension.co.uk/event/msvt-snetterton-4/
END:VEVENT
BEGIN:VEVENT
DTSTART;TZID=Europe/London:20240508T080000
DTEND;TZID=Europe/London:20240508T170000
DTSTAMP:20260422T225818
CREATED:20240208T084649Z
LAST-MODIFIED:20240208T084649Z
UID:1962-1715155200-1715187600@www.100pcsuspension.co.uk
SUMMARY:MSVT   OULTON PARK
DESCRIPTION:
URL:http://www.100pcsuspension.co.uk/event/msvt-oulton-park-4/
END:VEVENT
BEGIN:VEVENT
DTSTART;TZID=Europe/London:20240503T080000
DTEND;TZID=Europe/London:20240506T170000
DTSTAMP:20260422T225818
CREATED:20240103T155657Z
LAST-MODIFIED:20240103T155657Z
UID:1921-1714723200-1715014800@www.100pcsuspension.co.uk
SUMMARY:BSB OULTON PARK
DESCRIPTION:
URL:http://www.100pcsuspension.co.uk/event/bsb-oulton-park/
END:VEVENT
BEGIN:VEVENT
DTSTART;TZID=Europe/London:20240501T080000
DTEND;TZID=Europe/London:20240502T170000
DTSTAMP:20260422T225818
CREATED:20240103T155500Z
LAST-MODIFIED:20240103T155500Z
UID:1919-1714550400-1714669200@www.100pcsuspension.co.uk
SUMMARY:OFFICIAL BSB TEST OULTON PARK
DESCRIPTION:
URL:http://www.100pcsuspension.co.uk/event/official-bsb-test-oulton-park/
END:VEVENT
BEGIN:VEVENT
DTSTART;TZID=Europe/London:20240428T080000
DTEND;TZID=Europe/London:20240429T170000
DTSTAMP:20260422T225818
CREATED:20240103T155144Z
LAST-MODIFIED:20240103T155144Z
UID:1915-1714291200-1714410000@www.100pcsuspension.co.uk
SUMMARY:MSVT  SNETTERTON
DESCRIPTION:
URL:http://www.100pcsuspension.co.uk/event/msvt-snetterton-3/
END:VEVENT
BEGIN:VEVENT
DTSTART;TZID=Europe/London:20240426T080000
DTEND;TZID=Europe/London:20240427T170000
DTSTAMP:20260422T225818
CREATED:20240311T155026Z
LAST-MODIFIED:20240311T155026Z
UID:2009-1714118400-1714237200@www.100pcsuspension.co.uk
SUMMARY:NO LIMITS  SNETTERTON
DESCRIPTION:
URL:http://www.100pcsuspension.co.uk/event/no-limits-snetterton/
END:VEVENT
BEGIN:VEVENT
DTSTART;TZID=Europe/London:20240424T080000
DTEND;TZID=Europe/London:20240424T170000
DTSTAMP:20260422T225818
CREATED:20240103T155111Z
LAST-MODIFIED:20240103T155111Z
UID:1913-1713945600-1713978000@www.100pcsuspension.co.uk
SUMMARY:MSVT  DONINGTON PARK
DESCRIPTION:
URL:http://www.100pcsuspension.co.uk/event/msvt-donington-park-3/
END:VEVENT
BEGIN:VEVENT
DTSTART;TZID=Europe/London:20240422T080000
DTEND;TZID=Europe/London:20240423T170000
DTSTAMP:20260422T225818
CREATED:20240103T155042Z
LAST-MODIFIED:20240103T155421Z
UID:1911-1713772800-1713891600@www.100pcsuspension.co.uk
SUMMARY:MSVT  CADWELL PARK
DESCRIPTION:
URL:http://www.100pcsuspension.co.uk/event/masvt-cadwell-park/
END:VEVENT
BEGIN:VEVENT
DTSTART;TZID=Europe/London:20240419T080000
DTEND;TZID=Europe/London:20240419T170000
DTSTAMP:20260422T225818
CREATED:20240108T114349Z
LAST-MODIFIED:20240108T114349Z
UID:1949-1713513600-1713546000@www.100pcsuspension.co.uk
SUMMARY:MSVT  OULTON PARK
DESCRIPTION:
URL:http://www.100pcsuspension.co.uk/event/msvt-oulton-park-3/
END:VEVENT
BEGIN:VEVENT
DTSTART;TZID=Europe/London:20240417T080000
DTEND;TZID=Europe/London:20240417T170000
DTSTAMP:20260422T225818
CREATED:20240103T155013Z
LAST-MODIFIED:20240103T155013Z
UID:1909-1713340800-1713373200@www.100pcsuspension.co.uk
SUMMARY:MSVT  DONINGTON PARK
DESCRIPTION:
URL:http://www.100pcsuspension.co.uk/event/msvt-donington-park-2/
END:VEVENT
BEGIN:VEVENT
DTSTART;TZID=Europe/London:20240415T080000
DTEND;TZID=Europe/London:20240415T170000
DTSTAMP:20260422T225818
CREATED:20240103T154947Z
LAST-MODIFIED:20240103T154947Z
UID:1907-1713168000-1713200400@www.100pcsuspension.co.uk
SUMMARY:MSVT  SNETTERTON
DESCRIPTION:
URL:http://www.100pcsuspension.co.uk/event/msvt-snetterton-2/
END:VEVENT
BEGIN:VEVENT
DTSTART;TZID=Europe/London:20240411T080000
DTEND;TZID=Europe/London:20240411T170000
DTSTAMP:20260422T225818
CREATED:20240103T154921Z
LAST-MODIFIED:20240103T154921Z
UID:1905-1712822400-1712854800@www.100pcsuspension.co.uk
SUMMARY:MSVT  CADWELL PARK
DESCRIPTION:
URL:http://www.100pcsuspension.co.uk/event/msvt-cadwell-park-3/
END:VEVENT
BEGIN:VEVENT
DTSTART;TZID=Europe/London:20240410T080000
DTEND;TZID=Europe/London:20240410T170000
DTSTAMP:20260422T225818
CREATED:20240108T114320Z
LAST-MODIFIED:20240108T114320Z
UID:1947-1712736000-1712768400@www.100pcsuspension.co.uk
SUMMARY:MSVT  OULTON PARK
DESCRIPTION:
URL:http://www.100pcsuspension.co.uk/event/msvt-oulton-park-2/
END:VEVENT
BEGIN:VEVENT
DTSTART;TZID=Europe/London:20240408T080000
DTEND;TZID=Europe/London:20240408T170000
DTSTAMP:20260422T225818
CREATED:20240108T114420Z
LAST-MODIFIED:20240108T114420Z
UID:1951-1712563200-1712595600@www.100pcsuspension.co.uk
SUMMARY:MSVT  DONINGTON PARK
DESCRIPTION:
URL:http://www.100pcsuspension.co.uk/event/msvt-donington-park-4/
END:VEVENT
BEGIN:VEVENT
DTSTART;TZID=Europe/London:20240406T080000
DTEND;TZID=Europe/London:20240407T170000
DTSTAMP:20260422T225818
CREATED:20240103T154844Z
LAST-MODIFIED:20240103T154844Z
UID:1903-1712390400-1712509200@www.100pcsuspension.co.uk
SUMMARY:OFFICIAL BSB TEST DONINGTON PARK
DESCRIPTION:
URL:http://www.100pcsuspension.co.uk/event/official-bsb-test-donington-park/
END:VEVENT
BEGIN:VEVENT
DTSTART;TZID=Europe/London:20240330T080000
DTEND;TZID=Europe/London:20240330T170000
DTSTAMP:20260422T225818
CREATED:20240311T154953Z
LAST-MODIFIED:20240311T154953Z
UID:2007-1711785600-1711818000@www.100pcsuspension.co.uk
SUMMARY:NO LIMITS CADWELL PARK
DESCRIPTION:
URL:http://www.100pcsuspension.co.uk/event/no-limits-cadwell-park-2/
END:VEVENT
BEGIN:VEVENT
DTSTART;TZID=Europe/London:20240329T080000
DTEND;TZID=Europe/London:20240329T170000
DTSTAMP:20260422T225818
CREATED:20240103T154802Z
LAST-MODIFIED:20240103T154802Z
UID:1901-1711699200-1711731600@www.100pcsuspension.co.uk
SUMMARY:MSVT  CADWELL PARK
DESCRIPTION:
URL:http://www.100pcsuspension.co.uk/event/msvt-cadwell-park-2/
END:VEVENT
BEGIN:VEVENT
DTSTART;TZID=Europe/London:20240326T080000
DTEND;TZID=Europe/London:20240326T170000
DTSTAMP:20260422T225818
CREATED:20240311T154922Z
LAST-MODIFIED:20240311T154922Z
UID:2005-1711440000-1711472400@www.100pcsuspension.co.uk
SUMMARY:NO LIMITS  OULTON PARK
DESCRIPTION:
URL:http://www.100pcsuspension.co.uk/event/no-limits-oulton-park/
END:VEVENT
BEGIN:VEVENT
DTSTART;TZID=Europe/London:20240324T080000
DTEND;TZID=Europe/London:20240324T170000
DTSTAMP:20260422T225818
CREATED:20240311T154852Z
LAST-MODIFIED:20240311T154852Z
UID:2003-1711267200-1711299600@www.100pcsuspension.co.uk
SUMMARY:NO LIMITS CADWELL PARK
DESCRIPTION:
URL:http://www.100pcsuspension.co.uk/event/no-limits-cadwell-park/
END:VEVENT
BEGIN:VEVENT
DTSTART;TZID=Europe/London:20240318T080000
DTEND;TZID=Europe/London:20240318T170000
DTSTAMP:20260422T225818
CREATED:20240103T154733Z
LAST-MODIFIED:20240103T154733Z
UID:1899-1710748800-1710781200@www.100pcsuspension.co.uk
SUMMARY:MSVT  SNETTERTON
DESCRIPTION:
URL:http://www.100pcsuspension.co.uk/event/msvt-snetterton/
END:VEVENT
BEGIN:VEVENT
DTSTART;TZID=Europe/London:20240316T080000
DTEND;TZID=Europe/London:20240316T170000
DTSTAMP:20260422T225818
CREATED:20240108T114242Z
LAST-MODIFIED:20240108T114242Z
UID:1945-1710576000-1710608400@www.100pcsuspension.co.uk
SUMMARY:MSVT  OULTON PARK
DESCRIPTION:
URL:http://www.100pcsuspension.co.uk/event/msvt-oulton-park/
END:VEVENT
BEGIN:VEVENT
DTSTART;TZID=Europe/London:20240315T080000
DTEND;TZID=Europe/London:20240315T170000
DTSTAMP:20260422T225818
CREATED:20240103T154705Z
LAST-MODIFIED:20240103T154705Z
UID:1897-1710489600-1710522000@www.100pcsuspension.co.uk
SUMMARY:MSVT  DONINGTON PARK
DESCRIPTION:
URL:http://www.100pcsuspension.co.uk/event/msvt-donington-park/
END:VEVENT
BEGIN:VEVENT
DTSTART;TZID=Europe/London:20240309T080000
DTEND;TZID=Europe/London:20240309T170000
DTSTAMP:20260422T225818
CREATED:20240103T154436Z
LAST-MODIFIED:20240103T154436Z
UID:1895-1709971200-1710003600@www.100pcsuspension.co.uk
SUMMARY:MSVT   CADWELL PARK
DESCRIPTION:
URL:http://www.100pcsuspension.co.uk/event/msvt-cadwell-park/
END:VEVENT
BEGIN:VEVENT
DTSTART;TZID=Europe/London:20231107T080000
DTEND;TZID=Europe/London:20231107T170000
DTSTAMP:20260422T225818
CREATED:20230822T140939Z
LAST-MODIFIED:20230822T140939Z
UID:1878-1699344000-1699376400@www.100pcsuspension.co.uk
SUMMARY:OULTON PARK  MSVT
DESCRIPTION:
URL:http://www.100pcsuspension.co.uk/event/oulton-park-msvt-9/
END:VEVENT
BEGIN:VEVENT
DTSTART;TZID=Europe/London:20231030T080000
DTEND;TZID=Europe/London:20231030T170000
DTSTAMP:20260422T225818
CREATED:20230822T140916Z
LAST-MODIFIED:20230822T140916Z
UID:1876-1698652800-1698685200@www.100pcsuspension.co.uk
SUMMARY:SNETTERTON  MSVT
DESCRIPTION:
URL:http://www.100pcsuspension.co.uk/event/snetterton-msvt-12/
END:VEVENT
BEGIN:VEVENT
DTSTART;TZID=Europe/London:20231028T080000
DTEND;TZID=Europe/London:20231028T170000
DTSTAMP:20260422T225818
CREATED:20230907T122420Z
LAST-MODIFIED:20230907T122420Z
UID:1892-1698480000-1698512400@www.100pcsuspension.co.uk
SUMMARY:DONINGTON PARK  MSVT
DESCRIPTION:
URL:http://www.100pcsuspension.co.uk/event/donington-park-msvt-15/
END:VEVENT
BEGIN:VEVENT
DTSTART;TZID=Europe/London:20231012T080000
DTEND;TZID=Europe/London:20231015T170000
DTSTAMP:20260422T225818
CREATED:20221220T155446Z
LAST-MODIFIED:20221220T155446Z
UID:1713-1697097600-1697389200@www.100pcsuspension.co.uk
SUMMARY:BRANDS HATCH BSB RD 11
DESCRIPTION:
URL:http://www.100pcsuspension.co.uk/event/brands-hatch-bsb-rd-11/
END:VEVENT
BEGIN:VEVENT
DTSTART;TZID=Europe/London:20231011T080000
DTEND;TZID=Europe/London:20231011T170000
DTSTAMP:20260422T225818
CREATED:20230822T140845Z
LAST-MODIFIED:20230822T140845Z
UID:1874-1697011200-1697043600@www.100pcsuspension.co.uk
SUMMARY:OULTON PARK  MSVT
DESCRIPTION:
URL:http://www.100pcsuspension.co.uk/event/oulton-park-msvt-5/
END:VEVENT
END:VCALENDAR