BEGIN:VCALENDAR
VERSION:2.0
PRODID:-//100% Suspension - ECPv6.15.20//NONSGML v1.0//EN
CALSCALE:GREGORIAN
METHOD:PUBLISH
X-WR-CALNAME:100% Suspension
X-ORIGINAL-URL:http://www.100pcsuspension.co.uk
X-WR-CALDESC:Events for 100% Suspension
REFRESH-INTERVAL;VALUE=DURATION:PT1H
X-Robots-Tag:noindex
X-PUBLISHED-TTL:PT1H
BEGIN:VTIMEZONE
TZID:Europe/London
BEGIN:DAYLIGHT
TZOFFSETFROM:+0000
TZOFFSETTO:+0100
TZNAME:BST
DTSTART:20220327T010000
END:DAYLIGHT
BEGIN:STANDARD
TZOFFSETFROM:+0100
TZOFFSETTO:+0000
TZNAME:GMT
DTSTART:20221030T010000
END:STANDARD
BEGIN:DAYLIGHT
TZOFFSETFROM:+0000
TZOFFSETTO:+0100
TZNAME:BST
DTSTART:20230326T010000
END:DAYLIGHT
BEGIN:STANDARD
TZOFFSETFROM:+0100
TZOFFSETTO:+0000
TZNAME:GMT
DTSTART:20231029T010000
END:STANDARD
BEGIN:DAYLIGHT
TZOFFSETFROM:+0000
TZOFFSETTO:+0100
TZNAME:BST
DTSTART:20240331T010000
END:DAYLIGHT
BEGIN:STANDARD
TZOFFSETFROM:+0100
TZOFFSETTO:+0000
TZNAME:GMT
DTSTART:20241027T010000
END:STANDARD
BEGIN:DAYLIGHT
TZOFFSETFROM:+0000
TZOFFSETTO:+0100
TZNAME:BST
DTSTART:20250330T010000
END:DAYLIGHT
BEGIN:STANDARD
TZOFFSETFROM:+0100
TZOFFSETTO:+0000
TZNAME:GMT
DTSTART:20251026T010000
END:STANDARD
END:VTIMEZONE
BEGIN:VEVENT
DTSTART;TZID=Europe/London:20240330T080000
DTEND;TZID=Europe/London:20240330T170000
DTSTAMP:20260422T233659
CREATED:20240311T154953Z
LAST-MODIFIED:20240311T154953Z
UID:2007-1711785600-1711818000@www.100pcsuspension.co.uk
SUMMARY:NO LIMITS CADWELL PARK
DESCRIPTION:
URL:http://www.100pcsuspension.co.uk/event/no-limits-cadwell-park-2/
END:VEVENT
BEGIN:VEVENT
DTSTART;TZID=Europe/London:20240329T080000
DTEND;TZID=Europe/London:20240329T170000
DTSTAMP:20260422T233659
CREATED:20240103T154802Z
LAST-MODIFIED:20240103T154802Z
UID:1901-1711699200-1711731600@www.100pcsuspension.co.uk
SUMMARY:MSVT  CADWELL PARK
DESCRIPTION:
URL:http://www.100pcsuspension.co.uk/event/msvt-cadwell-park-2/
END:VEVENT
BEGIN:VEVENT
DTSTART;TZID=Europe/London:20240326T080000
DTEND;TZID=Europe/London:20240326T170000
DTSTAMP:20260422T233659
CREATED:20240311T154922Z
LAST-MODIFIED:20240311T154922Z
UID:2005-1711440000-1711472400@www.100pcsuspension.co.uk
SUMMARY:NO LIMITS  OULTON PARK
DESCRIPTION:
URL:http://www.100pcsuspension.co.uk/event/no-limits-oulton-park/
END:VEVENT
BEGIN:VEVENT
DTSTART;TZID=Europe/London:20240324T080000
DTEND;TZID=Europe/London:20240324T170000
DTSTAMP:20260422T233659
CREATED:20240311T154852Z
LAST-MODIFIED:20240311T154852Z
UID:2003-1711267200-1711299600@www.100pcsuspension.co.uk
SUMMARY:NO LIMITS CADWELL PARK
DESCRIPTION:
URL:http://www.100pcsuspension.co.uk/event/no-limits-cadwell-park/
END:VEVENT
BEGIN:VEVENT
DTSTART;TZID=Europe/London:20240318T080000
DTEND;TZID=Europe/London:20240318T170000
DTSTAMP:20260422T233659
CREATED:20240103T154733Z
LAST-MODIFIED:20240103T154733Z
UID:1899-1710748800-1710781200@www.100pcsuspension.co.uk
SUMMARY:MSVT  SNETTERTON
DESCRIPTION:
URL:http://www.100pcsuspension.co.uk/event/msvt-snetterton/
END:VEVENT
BEGIN:VEVENT
DTSTART;TZID=Europe/London:20240316T080000
DTEND;TZID=Europe/London:20240316T170000
DTSTAMP:20260422T233659
CREATED:20240108T114242Z
LAST-MODIFIED:20240108T114242Z
UID:1945-1710576000-1710608400@www.100pcsuspension.co.uk
SUMMARY:MSVT  OULTON PARK
DESCRIPTION:
URL:http://www.100pcsuspension.co.uk/event/msvt-oulton-park/
END:VEVENT
BEGIN:VEVENT
DTSTART;TZID=Europe/London:20240315T080000
DTEND;TZID=Europe/London:20240315T170000
DTSTAMP:20260422T233659
CREATED:20240103T154705Z
LAST-MODIFIED:20240103T154705Z
UID:1897-1710489600-1710522000@www.100pcsuspension.co.uk
SUMMARY:MSVT  DONINGTON PARK
DESCRIPTION:
URL:http://www.100pcsuspension.co.uk/event/msvt-donington-park/
END:VEVENT
BEGIN:VEVENT
DTSTART;TZID=Europe/London:20240309T080000
DTEND;TZID=Europe/London:20240309T170000
DTSTAMP:20260422T233659
CREATED:20240103T154436Z
LAST-MODIFIED:20240103T154436Z
UID:1895-1709971200-1710003600@www.100pcsuspension.co.uk
SUMMARY:MSVT   CADWELL PARK
DESCRIPTION:
URL:http://www.100pcsuspension.co.uk/event/msvt-cadwell-park/
END:VEVENT
BEGIN:VEVENT
DTSTART;TZID=Europe/London:20231107T080000
DTEND;TZID=Europe/London:20231107T170000
DTSTAMP:20260422T233659
CREATED:20230822T140939Z
LAST-MODIFIED:20230822T140939Z
UID:1878-1699344000-1699376400@www.100pcsuspension.co.uk
SUMMARY:OULTON PARK  MSVT
DESCRIPTION:
URL:http://www.100pcsuspension.co.uk/event/oulton-park-msvt-9/
END:VEVENT
BEGIN:VEVENT
DTSTART;TZID=Europe/London:20231030T080000
DTEND;TZID=Europe/London:20231030T170000
DTSTAMP:20260422T233659
CREATED:20230822T140916Z
LAST-MODIFIED:20230822T140916Z
UID:1876-1698652800-1698685200@www.100pcsuspension.co.uk
SUMMARY:SNETTERTON  MSVT
DESCRIPTION:
URL:http://www.100pcsuspension.co.uk/event/snetterton-msvt-12/
END:VEVENT
BEGIN:VEVENT
DTSTART;TZID=Europe/London:20231028T080000
DTEND;TZID=Europe/London:20231028T170000
DTSTAMP:20260422T233659
CREATED:20230907T122420Z
LAST-MODIFIED:20230907T122420Z
UID:1892-1698480000-1698512400@www.100pcsuspension.co.uk
SUMMARY:DONINGTON PARK  MSVT
DESCRIPTION:
URL:http://www.100pcsuspension.co.uk/event/donington-park-msvt-15/
END:VEVENT
BEGIN:VEVENT
DTSTART;TZID=Europe/London:20231012T080000
DTEND;TZID=Europe/London:20231015T170000
DTSTAMP:20260422T233659
CREATED:20221220T155446Z
LAST-MODIFIED:20221220T155446Z
UID:1713-1697097600-1697389200@www.100pcsuspension.co.uk
SUMMARY:BRANDS HATCH BSB RD 11
DESCRIPTION:
URL:http://www.100pcsuspension.co.uk/event/brands-hatch-bsb-rd-11/
END:VEVENT
BEGIN:VEVENT
DTSTART;TZID=Europe/London:20231011T080000
DTEND;TZID=Europe/London:20231011T170000
DTSTAMP:20260422T233659
CREATED:20230822T140845Z
LAST-MODIFIED:20230822T140845Z
UID:1874-1697011200-1697043600@www.100pcsuspension.co.uk
SUMMARY:OULTON PARK  MSVT
DESCRIPTION:
URL:http://www.100pcsuspension.co.uk/event/oulton-park-msvt-5/
END:VEVENT
BEGIN:VEVENT
DTSTART;TZID=Europe/London:20231007T080000
DTEND;TZID=Europe/London:20231007T170000
DTSTAMP:20260422T233659
CREATED:20230822T140816Z
LAST-MODIFIED:20230822T140816Z
UID:1872-1696665600-1696698000@www.100pcsuspension.co.uk
SUMMARY:CADWELL PARK  MSVT
DESCRIPTION:
URL:http://www.100pcsuspension.co.uk/event/cadwell-park-msvt-8/
END:VEVENT
BEGIN:VEVENT
DTSTART;TZID=Europe/London:20231004T080000
DTEND;TZID=Europe/London:20231004T170000
DTSTAMP:20260422T233659
CREATED:20230822T140733Z
LAST-MODIFIED:20230822T140733Z
UID:1870-1696406400-1696438800@www.100pcsuspension.co.uk
SUMMARY:DONINGTON PARK   MSVT
DESCRIPTION:
URL:http://www.100pcsuspension.co.uk/event/donington-park-msvt-14/
END:VEVENT
BEGIN:VEVENT
DTSTART;TZID=Europe/London:20230928T080000
DTEND;TZID=Europe/London:20231001T170000
DTSTAMP:20260422T233659
CREATED:20221220T155403Z
LAST-MODIFIED:20221220T155403Z
UID:1711-1695888000-1696179600@www.100pcsuspension.co.uk
SUMMARY:DONINGTON PARK BSB RD 10
DESCRIPTION:
URL:http://www.100pcsuspension.co.uk/event/donington-park-bsb-rd-10/
END:VEVENT
BEGIN:VEVENT
DTSTART;TZID=Europe/London:20230927T080000
DTEND;TZID=Europe/London:20230927T170000
DTSTAMP:20260422T233659
CREATED:20230413T111005Z
LAST-MODIFIED:20230413T111005Z
UID:1836-1695801600-1695834000@www.100pcsuspension.co.uk
SUMMARY:DONINGTON PARK  MSVT
DESCRIPTION:
URL:http://www.100pcsuspension.co.uk/event/donington-park-msvt-13/
END:VEVENT
BEGIN:VEVENT
DTSTART;TZID=Europe/London:20230926T080000
DTEND;TZID=Europe/London:20230926T170000
DTSTAMP:20260422T233659
CREATED:20230413T110937Z
LAST-MODIFIED:20230413T110937Z
UID:1834-1695715200-1695747600@www.100pcsuspension.co.uk
SUMMARY:OULTON PARK   MSVT
DESCRIPTION:
URL:http://www.100pcsuspension.co.uk/event/oulton-park-msvt-8/
END:VEVENT
BEGIN:VEVENT
DTSTART;TZID=Europe/London:20230914T080000
DTEND;TZID=Europe/London:20230917T170000
DTSTAMP:20260422T233659
CREATED:20221220T155324Z
LAST-MODIFIED:20221220T155324Z
UID:1709-1694678400-1694970000@www.100pcsuspension.co.uk
SUMMARY:OULTON PARK BSB RD 9
DESCRIPTION:
URL:http://www.100pcsuspension.co.uk/event/oulton-park-bsb-rd-9/
END:VEVENT
BEGIN:VEVENT
DTSTART;TZID=Europe/London:20230913T080000
DTEND;TZID=Europe/London:20230913T170000
DTSTAMP:20260422T233659
CREATED:20230104T143417Z
LAST-MODIFIED:20230104T143417Z
UID:1743-1694592000-1694624400@www.100pcsuspension.co.uk
SUMMARY:DONINGTON PARK BENNETTS BIKE SOCAIL
DESCRIPTION:
URL:http://www.100pcsuspension.co.uk/event/donington-park-bennetts-bike-socail/
END:VEVENT
BEGIN:VEVENT
DTSTART;TZID=Europe/London:20230912T080000
DTEND;TZID=Europe/London:20230912T170000
DTSTAMP:20260422T233659
CREATED:20230413T110910Z
LAST-MODIFIED:20230413T110910Z
UID:1832-1694505600-1694538000@www.100pcsuspension.co.uk
SUMMARY:SNETTERTON   MSVT
DESCRIPTION:
URL:http://www.100pcsuspension.co.uk/event/snetterton-msvt-15/
END:VEVENT
BEGIN:VEVENT
DTSTART;TZID=Europe/London:20230911T080000
DTEND;TZID=Europe/London:20230911T170000
DTSTAMP:20260422T233659
CREATED:20230413T110845Z
LAST-MODIFIED:20230413T110845Z
UID:1830-1694419200-1694451600@www.100pcsuspension.co.uk
SUMMARY:DONINGTON PARK  MSVT
DESCRIPTION:
URL:http://www.100pcsuspension.co.uk/event/donington-park-msvt-12/
END:VEVENT
BEGIN:VEVENT
DTSTART;TZID=Europe/London:20230906T080000
DTEND;TZID=Europe/London:20230906T170000
DTSTAMP:20260422T233659
CREATED:20230413T110813Z
LAST-MODIFIED:20230413T110813Z
UID:1828-1693987200-1694019600@www.100pcsuspension.co.uk
SUMMARY:OULTON PARK  MSVT
DESCRIPTION:
URL:http://www.100pcsuspension.co.uk/event/oulton-park-msvt-7/
END:VEVENT
BEGIN:VEVENT
DTSTART;TZID=Europe/London:20230905T080000
DTEND;TZID=Europe/London:20230905T170000
DTSTAMP:20260422T233659
CREATED:20230116T152443Z
LAST-MODIFIED:20230530T161543Z
UID:1775-1693900800-1693933200@www.100pcsuspension.co.uk
SUMMARY:DONINGTON PARK  MSVT
DESCRIPTION:
URL:http://www.100pcsuspension.co.uk/event/donington-park-focused-events-3/
END:VEVENT
BEGIN:VEVENT
DTSTART;TZID=Europe/London:20230825T080000
DTEND;TZID=Europe/London:20230828T170000
DTSTAMP:20260422T233659
CREATED:20221220T155251Z
LAST-MODIFIED:20221220T155251Z
UID:1707-1692950400-1693242000@www.100pcsuspension.co.uk
SUMMARY:CADWELL PARK BSB RD 8
DESCRIPTION:
URL:http://www.100pcsuspension.co.uk/event/cadwell-park-bsb-rd-8/
END:VEVENT
BEGIN:VEVENT
DTSTART;TZID=Europe/London:20230824T080000
DTEND;TZID=Europe/London:20230824T170000
DTSTAMP:20260422T233659
CREATED:20230303T185031Z
LAST-MODIFIED:20230303T185031Z
UID:1824-1692864000-1692896400@www.100pcsuspension.co.uk
SUMMARY:CADWELL PARK   MSVT
DESCRIPTION:
URL:http://www.100pcsuspension.co.uk/event/cadwell-park-msvt-11/
END:VEVENT
BEGIN:VEVENT
DTSTART;TZID=Europe/London:20230823T080000
DTEND;TZID=Europe/London:20230823T170000
DTSTAMP:20260422T233659
CREATED:20230303T185002Z
LAST-MODIFIED:20230303T185002Z
UID:1822-1692777600-1692810000@www.100pcsuspension.co.uk
SUMMARY:DONINGTON PARK  MSVT
DESCRIPTION:
URL:http://www.100pcsuspension.co.uk/event/donington-park-msvt-11/
END:VEVENT
BEGIN:VEVENT
DTSTART;TZID=Europe/London:20230816T080000
DTEND;TZID=Europe/London:20230816T170000
DTSTAMP:20260422T233659
CREATED:20230303T184935Z
LAST-MODIFIED:20230303T184935Z
UID:1820-1692172800-1692205200@www.100pcsuspension.co.uk
SUMMARY:SNETTERTON  MSVT
DESCRIPTION:
URL:http://www.100pcsuspension.co.uk/event/snetterton-msvt-14/
END:VEVENT
BEGIN:VEVENT
DTSTART;TZID=Europe/London:20230814T080000
DTEND;TZID=Europe/London:20230815T170000
DTSTAMP:20260422T233659
CREATED:20230303T184913Z
LAST-MODIFIED:20230303T184913Z
UID:1818-1692000000-1692118800@www.100pcsuspension.co.uk
SUMMARY:CADWELL PARK   MSVT
DESCRIPTION:
URL:http://www.100pcsuspension.co.uk/event/cadwell-park-msvt-10/
END:VEVENT
BEGIN:VEVENT
DTSTART;TZID=Europe/London:20230810T080000
DTEND;TZID=Europe/London:20230813T170000
DTSTAMP:20260422T233659
CREATED:20221220T155215Z
LAST-MODIFIED:20221220T155215Z
UID:1705-1691654400-1691946000@www.100pcsuspension.co.uk
SUMMARY:THRUXTON BSB RD 7
DESCRIPTION:
URL:http://www.100pcsuspension.co.uk/event/thruxton-bsb-rd-7/
END:VEVENT
END:VCALENDAR