BEGIN:VCALENDAR
VERSION:2.0
PRODID:-//100% Suspension - ECPv6.15.20//NONSGML v1.0//EN
CALSCALE:GREGORIAN
METHOD:PUBLISH
X-WR-CALNAME:100% Suspension
X-ORIGINAL-URL:http://www.100pcsuspension.co.uk
X-WR-CALDESC:Events for 100% Suspension
REFRESH-INTERVAL;VALUE=DURATION:PT1H
X-Robots-Tag:noindex
X-PUBLISHED-TTL:PT1H
BEGIN:VTIMEZONE
TZID:Europe/London
BEGIN:DAYLIGHT
TZOFFSETFROM:+0000
TZOFFSETTO:+0100
TZNAME:BST
DTSTART:20220327T010000
END:DAYLIGHT
BEGIN:STANDARD
TZOFFSETFROM:+0100
TZOFFSETTO:+0000
TZNAME:GMT
DTSTART:20221030T010000
END:STANDARD
BEGIN:DAYLIGHT
TZOFFSETFROM:+0000
TZOFFSETTO:+0100
TZNAME:BST
DTSTART:20230326T010000
END:DAYLIGHT
BEGIN:STANDARD
TZOFFSETFROM:+0100
TZOFFSETTO:+0000
TZNAME:GMT
DTSTART:20231029T010000
END:STANDARD
BEGIN:DAYLIGHT
TZOFFSETFROM:+0000
TZOFFSETTO:+0100
TZNAME:BST
DTSTART:20240331T010000
END:DAYLIGHT
BEGIN:STANDARD
TZOFFSETFROM:+0100
TZOFFSETTO:+0000
TZNAME:GMT
DTSTART:20241027T010000
END:STANDARD
END:VTIMEZONE
BEGIN:VEVENT
DTSTART;TZID=Europe/London:20230802T080000
DTEND;TZID=Europe/London:20230802T170000
DTSTAMP:20260423T113918
CREATED:20230303T184730Z
LAST-MODIFIED:20230303T184730Z
UID:1810-1690963200-1690995600@www.100pcsuspension.co.uk
SUMMARY:OULTON PARK   MSVT
DESCRIPTION:
URL:http://www.100pcsuspension.co.uk/event/oulton-park-msvt-6/
END:VEVENT
BEGIN:VEVENT
DTSTART;TZID=Europe/London:20230727T080000
DTEND;TZID=Europe/London:20230727T170000
DTSTAMP:20260423T113918
CREATED:20230104T143342Z
LAST-MODIFIED:20230104T143342Z
UID:1741-1690444800-1690477200@www.100pcsuspension.co.uk
SUMMARY:CADWELL PARK  BENNETTS BIKE SOCIAL
DESCRIPTION:
URL:http://www.100pcsuspension.co.uk/event/cadwell-park-bennetts-bike-social/
END:VEVENT
BEGIN:VEVENT
DTSTART;VALUE=DATE:20230721
DTEND;VALUE=DATE:20230722
DTSTAMP:20260423T113918
CREATED:20221121T120805Z
LAST-MODIFIED:20221121T120805Z
UID:1665-1689897600-1689983999@www.100pcsuspension.co.uk
SUMMARY:BRANDS HATCH BSB RD6
DESCRIPTION:
URL:http://www.100pcsuspension.co.uk/event/brands-hatch-bsb-rd6/
END:VEVENT
BEGIN:VEVENT
DTSTART;TZID=Europe/London:20230720T080000
DTEND;TZID=Europe/London:20230723T170000
DTSTAMP:20260423T113918
CREATED:20221220T155134Z
LAST-MODIFIED:20221220T155516Z
UID:1703-1689840000-1690131600@www.100pcsuspension.co.uk
SUMMARY:BRANDS HATCH BSB RD 6
DESCRIPTION:
URL:http://www.100pcsuspension.co.uk/event/brabds-hatch-bsb-rd-6/
END:VEVENT
BEGIN:VEVENT
DTSTART;TZID=Europe/London:20230717T080000
DTEND;TZID=Europe/London:20230717T170000
DTSTAMP:20260423T113918
CREATED:20230220T195722Z
LAST-MODIFIED:20230220T195722Z
UID:1803-1689580800-1689613200@www.100pcsuspension.co.uk
SUMMARY:DONINGTON PARK  MSVT
DESCRIPTION:
URL:http://www.100pcsuspension.co.uk/event/donington-park-msvt-9/
END:VEVENT
BEGIN:VEVENT
DTSTART;TZID=Europe/London:20230715T080000
DTEND;TZID=Europe/London:20230715T170000
DTSTAMP:20260423T113918
CREATED:20230220T195655Z
LAST-MODIFIED:20230220T195655Z
UID:1801-1689408000-1689440400@www.100pcsuspension.co.uk
SUMMARY:SNETTERTON  MSVT
DESCRIPTION:
URL:http://www.100pcsuspension.co.uk/event/snetterton-msvt-11/
END:VEVENT
BEGIN:VEVENT
DTSTART;TZID=Europe/London:20230713T080000
DTEND;TZID=Europe/London:20230713T170000
DTSTAMP:20260423T113918
CREATED:20230709T214554Z
LAST-MODIFIED:20230709T214554Z
UID:1840-1689235200-1689267600@www.100pcsuspension.co.uk
SUMMARY:SNETTERTON  BENNETTS BIKE SOCIAL
DESCRIPTION:
URL:http://www.100pcsuspension.co.uk/event/snetterton-bennetts-bike-social/
END:VEVENT
BEGIN:VEVENT
DTSTART;TZID=Europe/London:20230712T080000
DTEND;TZID=Europe/London:20230712T170000
DTSTAMP:20260423T113918
CREATED:20230220T195606Z
LAST-MODIFIED:20230220T195606Z
UID:1797-1689148800-1689181200@www.100pcsuspension.co.uk
SUMMARY:SNETTERTON  MSVT
DESCRIPTION:
URL:http://www.100pcsuspension.co.uk/event/snetterton-msvt-10/
END:VEVENT
BEGIN:VEVENT
DTSTART;TZID=Europe/London:20230706T080000
DTEND;TZID=Europe/London:20230709T170000
DTSTAMP:20260423T113918
CREATED:20221220T155054Z
LAST-MODIFIED:20221220T155054Z
UID:1701-1688630400-1688922000@www.100pcsuspension.co.uk
SUMMARY:SNETTERTON BSB RD 5
DESCRIPTION:
URL:http://www.100pcsuspension.co.uk/event/snetterton-bsb-rd-5/
END:VEVENT
BEGIN:VEVENT
DTSTART;TZID=Europe/London:20230705T080000
DTEND;TZID=Europe/London:20230705T170000
DTSTAMP:20260423T113918
CREATED:20230220T195540Z
LAST-MODIFIED:20230220T195540Z
UID:1795-1688544000-1688576400@www.100pcsuspension.co.uk
SUMMARY:SNETTERTON  MSVT
DESCRIPTION:
URL:http://www.100pcsuspension.co.uk/event/snetterton-msvt-9/
END:VEVENT
BEGIN:VEVENT
DTSTART;TZID=Europe/London:20230629T080000
DTEND;TZID=Europe/London:20230702T170000
DTSTAMP:20260423T113918
CREATED:20230109T154129Z
LAST-MODIFIED:20230109T154129Z
UID:1764-1688025600-1688317200@www.100pcsuspension.co.uk
SUMMARY:DONINGTON PARK WSB
DESCRIPTION:
URL:http://www.100pcsuspension.co.uk/event/donington-park-wsb/
END:VEVENT
BEGIN:VEVENT
DTSTART;TZID=Europe/London:20230625T080000
DTEND;TZID=Europe/London:20230626T170000
DTSTAMP:20260423T113918
CREATED:20230206T141027Z
LAST-MODIFIED:20230206T141027Z
UID:1793-1687680000-1687798800@www.100pcsuspension.co.uk
SUMMARY:SNETTERTON  MSVT
DESCRIPTION:
URL:http://www.100pcsuspension.co.uk/event/snetterton-msvt-8/
END:VEVENT
BEGIN:VEVENT
DTSTART;TZID=Europe/London:20230621T080000
DTEND;TZID=Europe/London:20230621T170000
DTSTAMP:20260423T113918
CREATED:20230206T114905Z
LAST-MODIFIED:20230206T114905Z
UID:1790-1687334400-1687366800@www.100pcsuspension.co.uk
SUMMARY:CADWELL PARK  MSVT
DESCRIPTION:
URL:http://www.100pcsuspension.co.uk/event/cadwell-park-msvt-7/
END:VEVENT
BEGIN:VEVENT
DTSTART;TZID=Europe/London:20230620T080000
DTEND;TZID=Europe/London:20230620T170000
DTSTAMP:20260423T113918
CREATED:20230116T120331Z
LAST-MODIFIED:20230116T120331Z
UID:1771-1687248000-1687280400@www.100pcsuspension.co.uk
SUMMARY:DONINGTON PARK  FOCUSED EVENTS
DESCRIPTION:
URL:http://www.100pcsuspension.co.uk/event/donington-park-focused-events/
END:VEVENT
BEGIN:VEVENT
DTSTART;TZID=Europe/London:20230619T080000
DTEND;TZID=Europe/London:20230619T170000
DTSTAMP:20260423T113918
CREATED:20230206T114841Z
LAST-MODIFIED:20230206T114841Z
UID:1788-1687161600-1687194000@www.100pcsuspension.co.uk
SUMMARY:DONINGTON PARK  MSVT
DESCRIPTION:
URL:http://www.100pcsuspension.co.uk/event/donington-park-msvt-8/
END:VEVENT
BEGIN:VEVENT
DTSTART;TZID=Europe/London:20230614T080000
DTEND;TZID=Europe/London:20230618T170000
DTSTAMP:20260423T113918
CREATED:20221220T155019Z
LAST-MODIFIED:20221220T155019Z
UID:1699-1686729600-1687107600@www.100pcsuspension.co.uk
SUMMARY:KNOCKHILL BSB RD 4
DESCRIPTION:
URL:http://www.100pcsuspension.co.uk/event/knockhill-bsb-rd-4/
END:VEVENT
BEGIN:VEVENT
DTSTART;TZID=Europe/London:20230613T080000
DTEND;TZID=Europe/London:20230613T170000
DTSTAMP:20260423T113918
CREATED:20230206T114817Z
LAST-MODIFIED:20230206T114817Z
UID:1786-1686643200-1686675600@www.100pcsuspension.co.uk
SUMMARY:OULTON PARK  MSVT
DESCRIPTION:
URL:http://www.100pcsuspension.co.uk/event/oulton-park-msvt-4/
END:VEVENT
BEGIN:VEVENT
DTSTART;TZID=Europe/London:20230612T080000
DTEND;TZID=Europe/London:20230612T170000
DTSTAMP:20260423T113918
CREATED:20230206T114751Z
LAST-MODIFIED:20230206T114751Z
UID:1784-1686556800-1686589200@www.100pcsuspension.co.uk
SUMMARY:SNETTERTON  MSVT
DESCRIPTION:
URL:http://www.100pcsuspension.co.uk/event/snetterton-msvt-7/
END:VEVENT
BEGIN:VEVENT
DTSTART;TZID=Europe/London:20230605T080000
DTEND;TZID=Europe/London:20230606T170000
DTSTAMP:20260423T113918
CREATED:20230206T114725Z
LAST-MODIFIED:20230206T114725Z
UID:1782-1685952000-1686070800@www.100pcsuspension.co.uk
SUMMARY:CADWELL PARK  MSVT
DESCRIPTION:
URL:http://www.100pcsuspension.co.uk/event/cadwell-park-msvt-6/
END:VEVENT
BEGIN:VEVENT
DTSTART;TZID=Europe/London:20230531T080000
DTEND;TZID=Europe/London:20230531T170000
DTSTAMP:20260423T113918
CREATED:20230109T153511Z
LAST-MODIFIED:20230109T153511Z
UID:1760-1685520000-1685552400@www.100pcsuspension.co.uk
SUMMARY:OULTON PARK  MSVT
DESCRIPTION:
URL:http://www.100pcsuspension.co.uk/event/oulton-park-msvt-3/
END:VEVENT
BEGIN:VEVENT
DTSTART;TZID=Europe/London:20230526T080000
DTEND;TZID=Europe/London:20230526T170000
DTSTAMP:20260423T113918
CREATED:20230109T153450Z
LAST-MODIFIED:20230109T153450Z
UID:1758-1685088000-1685120400@www.100pcsuspension.co.uk
SUMMARY:CADWELL PARK  MSVT
DESCRIPTION:
URL:http://www.100pcsuspension.co.uk/event/cadwell-park-msvt-2/
END:VEVENT
BEGIN:VEVENT
DTSTART;TZID=Europe/London:20230523T080000
DTEND;TZID=Europe/London:20230523T170000
DTSTAMP:20260423T113918
CREATED:20230109T153427Z
LAST-MODIFIED:20230109T153427Z
UID:1756-1684828800-1684861200@www.100pcsuspension.co.uk
SUMMARY:OULTON PARK   MSVT
DESCRIPTION:
URL:http://www.100pcsuspension.co.uk/event/oulton-park-msvt-2/
END:VEVENT
BEGIN:VEVENT
DTSTART;TZID=Europe/London:20230518T080000
DTEND;TZID=Europe/London:20230521T170000
DTSTAMP:20260423T113918
CREATED:20230109T153859Z
LAST-MODIFIED:20230109T153859Z
UID:1762-1684396800-1684688400@www.100pcsuspension.co.uk
SUMMARY:DONINGTON PARK BSB RD3
DESCRIPTION:
URL:http://www.100pcsuspension.co.uk/event/donington-park-bsb-rd3/
END:VEVENT
BEGIN:VEVENT
DTSTART;TZID=Europe/London:20230516T080000
DTEND;TZID=Europe/London:20230516T170000
DTSTAMP:20260423T113918
CREATED:20230110T155123Z
LAST-MODIFIED:20230110T155123Z
UID:1766-1684224000-1684256400@www.100pcsuspension.co.uk
SUMMARY:SNETTERTON  MSVT
DESCRIPTION:
URL:http://www.100pcsuspension.co.uk/event/snetterton-msvt-6/
END:VEVENT
BEGIN:VEVENT
DTSTART;TZID=Europe/London:20230515T080000
DTEND;TZID=Europe/London:20230515T170000
DTSTAMP:20260423T113918
CREATED:20230109T153316Z
LAST-MODIFIED:20230109T153316Z
UID:1754-1684137600-1684170000@www.100pcsuspension.co.uk
SUMMARY:DONINGTON PARK   MSVT
DESCRIPTION:
URL:http://www.100pcsuspension.co.uk/event/donington-park-msvt-7/
END:VEVENT
BEGIN:VEVENT
DTSTART;TZID=Europe/London:20230510T080000
DTEND;TZID=Europe/London:20230510T170000
DTSTAMP:20260423T113918
CREATED:20230109T153252Z
LAST-MODIFIED:20230109T153252Z
UID:1752-1683705600-1683738000@www.100pcsuspension.co.uk
SUMMARY:DONINGTON PARK  MSVT
DESCRIPTION:
URL:http://www.100pcsuspension.co.uk/event/donington-park-msvt-6/
END:VEVENT
BEGIN:VEVENT
DTSTART;TZID=Europe/London:20230508T080000
DTEND;TZID=Europe/London:20230508T170000
DTSTAMP:20260423T113918
CREATED:20230109T153230Z
LAST-MODIFIED:20230109T153230Z
UID:1750-1683532800-1683565200@www.100pcsuspension.co.uk
SUMMARY:SNETTERTON  MSVT
DESCRIPTION:
URL:http://www.100pcsuspension.co.uk/event/snetterton-msvt-5/
END:VEVENT
BEGIN:VEVENT
DTSTART;TZID=Europe/London:20230503T080000
DTEND;TZID=Europe/London:20230503T170000
DTSTAMP:20260423T113918
CREATED:20230109T153209Z
LAST-MODIFIED:20230109T153209Z
UID:1748-1683100800-1683133200@www.100pcsuspension.co.uk
SUMMARY:DONINGTON PARK  MSVT
DESCRIPTION:
URL:http://www.100pcsuspension.co.uk/event/donington-park-msvt-5/
END:VEVENT
BEGIN:VEVENT
DTSTART;TZID=Europe/London:20230502T080000
DTEND;TZID=Europe/London:20230502T170000
DTSTAMP:20260423T113918
CREATED:20230109T153141Z
LAST-MODIFIED:20230109T153141Z
UID:1746-1683014400-1683046800@www.100pcsuspension.co.uk
SUMMARY:SNETTERTON  MSVT
DESCRIPTION:
URL:http://www.100pcsuspension.co.uk/event/snetterton-msvt-4/
END:VEVENT
BEGIN:VEVENT
DTSTART;TZID=Europe/London:20230428T080000
DTEND;TZID=Europe/London:20230501T170000
DTSTAMP:20260423T113918
CREATED:20221220T153453Z
LAST-MODIFIED:20221220T153453Z
UID:1695-1682668800-1682960400@www.100pcsuspension.co.uk
SUMMARY:OULTON PARK BSB RD2
DESCRIPTION:
URL:http://www.100pcsuspension.co.uk/event/oulton-park-bsb-rd2/
END:VEVENT
END:VCALENDAR