BEGIN:VCALENDAR
VERSION:2.0
PRODID:-//100% Suspension - ECPv6.15.20//NONSGML v1.0//EN
CALSCALE:GREGORIAN
METHOD:PUBLISH
X-WR-CALNAME:100% Suspension
X-ORIGINAL-URL:http://www.100pcsuspension.co.uk
X-WR-CALDESC:Events for 100% Suspension
REFRESH-INTERVAL;VALUE=DURATION:PT1H
X-Robots-Tag:noindex
X-PUBLISHED-TTL:PT1H
BEGIN:VTIMEZONE
TZID:Europe/London
BEGIN:DAYLIGHT
TZOFFSETFROM:+0000
TZOFFSETTO:+0100
TZNAME:BST
DTSTART:20220327T010000
END:DAYLIGHT
BEGIN:STANDARD
TZOFFSETFROM:+0100
TZOFFSETTO:+0000
TZNAME:GMT
DTSTART:20221030T010000
END:STANDARD
BEGIN:DAYLIGHT
TZOFFSETFROM:+0000
TZOFFSETTO:+0100
TZNAME:BST
DTSTART:20230326T010000
END:DAYLIGHT
BEGIN:STANDARD
TZOFFSETFROM:+0100
TZOFFSETTO:+0000
TZNAME:GMT
DTSTART:20231029T010000
END:STANDARD
BEGIN:DAYLIGHT
TZOFFSETFROM:+0000
TZOFFSETTO:+0100
TZNAME:BST
DTSTART:20240331T010000
END:DAYLIGHT
BEGIN:STANDARD
TZOFFSETFROM:+0100
TZOFFSETTO:+0000
TZNAME:GMT
DTSTART:20241027T010000
END:STANDARD
END:VTIMEZONE
BEGIN:VEVENT
DTSTART;TZID=Europe/London:20230613T080000
DTEND;TZID=Europe/London:20230613T170000
DTSTAMP:20260423T102740
CREATED:20230206T114817Z
LAST-MODIFIED:20230206T114817Z
UID:1786-1686643200-1686675600@www.100pcsuspension.co.uk
SUMMARY:OULTON PARK  MSVT
DESCRIPTION:
URL:http://www.100pcsuspension.co.uk/event/oulton-park-msvt-4/
END:VEVENT
BEGIN:VEVENT
DTSTART;TZID=Europe/London:20230612T080000
DTEND;TZID=Europe/London:20230612T170000
DTSTAMP:20260423T102740
CREATED:20230206T114751Z
LAST-MODIFIED:20230206T114751Z
UID:1784-1686556800-1686589200@www.100pcsuspension.co.uk
SUMMARY:SNETTERTON  MSVT
DESCRIPTION:
URL:http://www.100pcsuspension.co.uk/event/snetterton-msvt-7/
END:VEVENT
BEGIN:VEVENT
DTSTART;TZID=Europe/London:20230605T080000
DTEND;TZID=Europe/London:20230606T170000
DTSTAMP:20260423T102740
CREATED:20230206T114725Z
LAST-MODIFIED:20230206T114725Z
UID:1782-1685952000-1686070800@www.100pcsuspension.co.uk
SUMMARY:CADWELL PARK  MSVT
DESCRIPTION:
URL:http://www.100pcsuspension.co.uk/event/cadwell-park-msvt-6/
END:VEVENT
BEGIN:VEVENT
DTSTART;TZID=Europe/London:20230531T080000
DTEND;TZID=Europe/London:20230531T170000
DTSTAMP:20260423T102740
CREATED:20230109T153511Z
LAST-MODIFIED:20230109T153511Z
UID:1760-1685520000-1685552400@www.100pcsuspension.co.uk
SUMMARY:OULTON PARK  MSVT
DESCRIPTION:
URL:http://www.100pcsuspension.co.uk/event/oulton-park-msvt-3/
END:VEVENT
BEGIN:VEVENT
DTSTART;TZID=Europe/London:20230526T080000
DTEND;TZID=Europe/London:20230526T170000
DTSTAMP:20260423T102740
CREATED:20230109T153450Z
LAST-MODIFIED:20230109T153450Z
UID:1758-1685088000-1685120400@www.100pcsuspension.co.uk
SUMMARY:CADWELL PARK  MSVT
DESCRIPTION:
URL:http://www.100pcsuspension.co.uk/event/cadwell-park-msvt-2/
END:VEVENT
BEGIN:VEVENT
DTSTART;TZID=Europe/London:20230523T080000
DTEND;TZID=Europe/London:20230523T170000
DTSTAMP:20260423T102740
CREATED:20230109T153427Z
LAST-MODIFIED:20230109T153427Z
UID:1756-1684828800-1684861200@www.100pcsuspension.co.uk
SUMMARY:OULTON PARK   MSVT
DESCRIPTION:
URL:http://www.100pcsuspension.co.uk/event/oulton-park-msvt-2/
END:VEVENT
BEGIN:VEVENT
DTSTART;TZID=Europe/London:20230518T080000
DTEND;TZID=Europe/London:20230521T170000
DTSTAMP:20260423T102740
CREATED:20230109T153859Z
LAST-MODIFIED:20230109T153859Z
UID:1762-1684396800-1684688400@www.100pcsuspension.co.uk
SUMMARY:DONINGTON PARK BSB RD3
DESCRIPTION:
URL:http://www.100pcsuspension.co.uk/event/donington-park-bsb-rd3/
END:VEVENT
BEGIN:VEVENT
DTSTART;TZID=Europe/London:20230516T080000
DTEND;TZID=Europe/London:20230516T170000
DTSTAMP:20260423T102740
CREATED:20230110T155123Z
LAST-MODIFIED:20230110T155123Z
UID:1766-1684224000-1684256400@www.100pcsuspension.co.uk
SUMMARY:SNETTERTON  MSVT
DESCRIPTION:
URL:http://www.100pcsuspension.co.uk/event/snetterton-msvt-6/
END:VEVENT
BEGIN:VEVENT
DTSTART;TZID=Europe/London:20230515T080000
DTEND;TZID=Europe/London:20230515T170000
DTSTAMP:20260423T102740
CREATED:20230109T153316Z
LAST-MODIFIED:20230109T153316Z
UID:1754-1684137600-1684170000@www.100pcsuspension.co.uk
SUMMARY:DONINGTON PARK   MSVT
DESCRIPTION:
URL:http://www.100pcsuspension.co.uk/event/donington-park-msvt-7/
END:VEVENT
BEGIN:VEVENT
DTSTART;TZID=Europe/London:20230510T080000
DTEND;TZID=Europe/London:20230510T170000
DTSTAMP:20260423T102740
CREATED:20230109T153252Z
LAST-MODIFIED:20230109T153252Z
UID:1752-1683705600-1683738000@www.100pcsuspension.co.uk
SUMMARY:DONINGTON PARK  MSVT
DESCRIPTION:
URL:http://www.100pcsuspension.co.uk/event/donington-park-msvt-6/
END:VEVENT
BEGIN:VEVENT
DTSTART;TZID=Europe/London:20230508T080000
DTEND;TZID=Europe/London:20230508T170000
DTSTAMP:20260423T102740
CREATED:20230109T153230Z
LAST-MODIFIED:20230109T153230Z
UID:1750-1683532800-1683565200@www.100pcsuspension.co.uk
SUMMARY:SNETTERTON  MSVT
DESCRIPTION:
URL:http://www.100pcsuspension.co.uk/event/snetterton-msvt-5/
END:VEVENT
BEGIN:VEVENT
DTSTART;TZID=Europe/London:20230503T080000
DTEND;TZID=Europe/London:20230503T170000
DTSTAMP:20260423T102740
CREATED:20230109T153209Z
LAST-MODIFIED:20230109T153209Z
UID:1748-1683100800-1683133200@www.100pcsuspension.co.uk
SUMMARY:DONINGTON PARK  MSVT
DESCRIPTION:
URL:http://www.100pcsuspension.co.uk/event/donington-park-msvt-5/
END:VEVENT
BEGIN:VEVENT
DTSTART;TZID=Europe/London:20230502T080000
DTEND;TZID=Europe/London:20230502T170000
DTSTAMP:20260423T102740
CREATED:20230109T153141Z
LAST-MODIFIED:20230109T153141Z
UID:1746-1683014400-1683046800@www.100pcsuspension.co.uk
SUMMARY:SNETTERTON  MSVT
DESCRIPTION:
URL:http://www.100pcsuspension.co.uk/event/snetterton-msvt-4/
END:VEVENT
BEGIN:VEVENT
DTSTART;TZID=Europe/London:20230428T080000
DTEND;TZID=Europe/London:20230501T170000
DTSTAMP:20260423T102740
CREATED:20221220T153453Z
LAST-MODIFIED:20221220T153453Z
UID:1695-1682668800-1682960400@www.100pcsuspension.co.uk
SUMMARY:OULTON PARK BSB RD2
DESCRIPTION:
URL:http://www.100pcsuspension.co.uk/event/oulton-park-bsb-rd2/
END:VEVENT
BEGIN:VEVENT
DTSTART;TZID=Europe/London:20230427T080000
DTEND;TZID=Europe/London:20230427T170000
DTSTAMP:20260423T102740
CREATED:20230104T143308Z
LAST-MODIFIED:20230104T143308Z
UID:1739-1682582400-1682614800@www.100pcsuspension.co.uk
SUMMARY:OULTON PARK  BENNETTS BIKE SOCIAL
DESCRIPTION:
URL:http://www.100pcsuspension.co.uk/event/oulton-park-bennetts-bike-social/
END:VEVENT
BEGIN:VEVENT
DTSTART;TZID=Europe/London:20230426T080000
DTEND;TZID=Europe/London:20230426T170000
DTSTAMP:20260423T102740
CREATED:20221220T153412Z
LAST-MODIFIED:20221220T153412Z
UID:1693-1682496000-1682528400@www.100pcsuspension.co.uk
SUMMARY:DONINGTON PARK  MSVT
DESCRIPTION:
URL:http://www.100pcsuspension.co.uk/event/donington-park-msvt-3/
END:VEVENT
BEGIN:VEVENT
DTSTART;TZID=Europe/London:20230425T080000
DTEND;TZID=Europe/London:20230425T170000
DTSTAMP:20260423T102740
CREATED:20221220T153344Z
LAST-MODIFIED:20221220T153344Z
UID:1691-1682409600-1682442000@www.100pcsuspension.co.uk
SUMMARY:CADWELL PARK  MSVT
DESCRIPTION:
URL:http://www.100pcsuspension.co.uk/event/cadwell-park-msvt-3/
END:VEVENT
BEGIN:VEVENT
DTSTART;TZID=Europe/London:20230424T080000
DTEND;TZID=Europe/London:20230424T170000
DTSTAMP:20260423T102740
CREATED:20221222T161718Z
LAST-MODIFIED:20221222T161718Z
UID:1718-1682323200-1682355600@www.100pcsuspension.co.uk
SUMMARY:CADWELL PARK  MSVT
DESCRIPTION:
URL:http://www.100pcsuspension.co.uk/event/cadwell-park-msvt-4/
END:VEVENT
BEGIN:VEVENT
DTSTART;TZID=Europe/London:20230419T080000
DTEND;TZID=Europe/London:20230419T170000
DTSTAMP:20260423T102740
CREATED:20221222T161650Z
LAST-MODIFIED:20221222T161650Z
UID:1716-1681891200-1681923600@www.100pcsuspension.co.uk
SUMMARY:DONINGTON PARK  MSVT
DESCRIPTION:
URL:http://www.100pcsuspension.co.uk/event/donington-park-msvt-4/
END:VEVENT
BEGIN:VEVENT
DTSTART;TZID=Europe/London:20230416T080000
DTEND;TZID=Europe/London:20230417T170000
DTSTAMP:20260423T102740
CREATED:20221220T153316Z
LAST-MODIFIED:20221220T153316Z
UID:1689-1681632000-1681750800@www.100pcsuspension.co.uk
SUMMARY:SNETTERTON MSVT
DESCRIPTION:
URL:http://www.100pcsuspension.co.uk/event/snetterton-msvt-3/
END:VEVENT
BEGIN:VEVENT
DTSTART;TZID=Europe/London:20230412T080000
DTEND;TZID=Europe/London:20230413T170000
DTSTAMP:20260423T102740
CREATED:20221220T153245Z
LAST-MODIFIED:20221220T153245Z
UID:1687-1681286400-1681405200@www.100pcsuspension.co.uk
SUMMARY:OULTON PARK  BSB TEST
DESCRIPTION:
URL:http://www.100pcsuspension.co.uk/event/oulton-park-bsb-test/
END:VEVENT
BEGIN:VEVENT
DTSTART;TZID=Europe/London:20230411T080000
DTEND;TZID=Europe/London:20230411T170000
DTSTAMP:20260423T102740
CREATED:20230104T143232Z
LAST-MODIFIED:20230104T143232Z
UID:1737-1681200000-1681232400@www.100pcsuspension.co.uk
SUMMARY:DONINGTON PARK BENNETTS BIKE SOCIAL
DESCRIPTION:
URL:http://www.100pcsuspension.co.uk/event/donington-park-bennetts-bike-social/
END:VEVENT
BEGIN:VEVENT
DTSTART;TZID=Europe/London:20230410T080000
DTEND;TZID=Europe/London:20230410T170000
DTSTAMP:20260423T102740
CREATED:20230118T160749Z
LAST-MODIFIED:20230118T160749Z
UID:1777-1681113600-1681146000@www.100pcsuspension.co.uk
SUMMARY:CADWELL PARK  MSVT
DESCRIPTION:
URL:http://www.100pcsuspension.co.uk/event/cadwell-park-msvt-5/
END:VEVENT
BEGIN:VEVENT
DTSTART;TZID=Europe/London:20230406T080000
DTEND;TZID=Europe/London:20230409T170000
DTSTAMP:20260423T102740
CREATED:20221220T153124Z
LAST-MODIFIED:20221220T153124Z
UID:1683-1680768000-1681059600@www.100pcsuspension.co.uk
SUMMARY:SILVERSTONE BSB RD 1
DESCRIPTION:
URL:http://www.100pcsuspension.co.uk/event/silverstone-bsb-rd-1/
END:VEVENT
BEGIN:VEVENT
DTSTART;TZID=Europe/London:20230403T080000
DTEND;TZID=Europe/London:20230403T170000
DTSTAMP:20260423T102740
CREATED:20221220T152942Z
LAST-MODIFIED:20221220T152942Z
UID:1681-1680508800-1680541200@www.100pcsuspension.co.uk
SUMMARY:DONINGTON PARK  MSVT
DESCRIPTION:
URL:http://www.100pcsuspension.co.uk/event/donington-park-msvt-2/
END:VEVENT
BEGIN:VEVENT
DTSTART;TZID=Europe/London:20230330T080000
DTEND;TZID=Europe/London:20230330T170000
DTSTAMP:20260423T102740
CREATED:20221220T152709Z
LAST-MODIFIED:20221220T152709Z
UID:1677-1680163200-1680195600@www.100pcsuspension.co.uk
SUMMARY:SNETTERTON  MSVT
DESCRIPTION:
URL:http://www.100pcsuspension.co.uk/event/snetterton-msvt-2/
END:VEVENT
BEGIN:VEVENT
DTSTART;TZID=Europe/London:20230328T080000
DTEND;TZID=Europe/London:20230329T170000
DTSTAMP:20260423T102740
CREATED:20221220T152745Z
LAST-MODIFIED:20221220T152745Z
UID:1679-1679990400-1680109200@www.100pcsuspension.co.uk
SUMMARY:SILVERSTON BSB TEST
DESCRIPTION:
URL:http://www.100pcsuspension.co.uk/event/silverston-bsb-test/
END:VEVENT
BEGIN:VEVENT
DTSTART;TZID=Europe/London:20230327T080000
DTEND;TZID=Europe/London:20230327T170000
DTSTAMP:20260423T102740
CREATED:20221220T152638Z
LAST-MODIFIED:20221220T152638Z
UID:1675-1679904000-1679936400@www.100pcsuspension.co.uk
SUMMARY:DONINGTON PARK  MSVT
DESCRIPTION:
URL:http://www.100pcsuspension.co.uk/event/donington-park-msvt/
END:VEVENT
BEGIN:VEVENT
DTSTART;TZID=Europe/London:20230325T080000
DTEND;TZID=Europe/London:20230326T170000
DTSTAMP:20260423T102740
CREATED:20230110T155410Z
LAST-MODIFIED:20230110T155410Z
UID:1768-1679731200-1679850000@www.100pcsuspension.co.uk
SUMMARY:DONINGTON PARK BSB TEST
DESCRIPTION:
URL:http://www.100pcsuspension.co.uk/event/donington-park-bsb-test/
END:VEVENT
BEGIN:VEVENT
DTSTART;TZID=Europe/London:20230322T080000
DTEND;TZID=Europe/London:20230322T170000
DTSTAMP:20260423T102740
CREATED:20221220T152610Z
LAST-MODIFIED:20221220T152610Z
UID:1673-1679472000-1679504400@www.100pcsuspension.co.uk
SUMMARY:OULTON PARK  MSVT
DESCRIPTION:
URL:http://www.100pcsuspension.co.uk/event/oulton-park-msvt/
END:VEVENT
END:VCALENDAR