BEGIN:VCALENDAR
VERSION:2.0
PRODID:-//100% Suspension - ECPv6.15.20//NONSGML v1.0//EN
CALSCALE:GREGORIAN
METHOD:PUBLISH
X-WR-CALNAME:100% Suspension
X-ORIGINAL-URL:http://www.100pcsuspension.co.uk
X-WR-CALDESC:Events for 100% Suspension
REFRESH-INTERVAL;VALUE=DURATION:PT1H
X-Robots-Tag:noindex
X-PUBLISHED-TTL:PT1H
BEGIN:VTIMEZONE
TZID:Europe/London
BEGIN:DAYLIGHT
TZOFFSETFROM:+0000
TZOFFSETTO:+0100
TZNAME:BST
DTSTART:20250330T010000
END:DAYLIGHT
BEGIN:STANDARD
TZOFFSETFROM:+0100
TZOFFSETTO:+0000
TZNAME:GMT
DTSTART:20251026T010000
END:STANDARD
BEGIN:DAYLIGHT
TZOFFSETFROM:+0000
TZOFFSETTO:+0100
TZNAME:BST
DTSTART:20260329T010000
END:DAYLIGHT
BEGIN:STANDARD
TZOFFSETFROM:+0100
TZOFFSETTO:+0000
TZNAME:GMT
DTSTART:20261025T010000
END:STANDARD
BEGIN:DAYLIGHT
TZOFFSETFROM:+0000
TZOFFSETTO:+0100
TZNAME:BST
DTSTART:20270328T010000
END:DAYLIGHT
BEGIN:STANDARD
TZOFFSETFROM:+0100
TZOFFSETTO:+0000
TZNAME:GMT
DTSTART:20271031T010000
END:STANDARD
END:VTIMEZONE
BEGIN:VEVENT
DTSTART;TZID=Europe/London:20260604T080000
DTEND;TZID=Europe/London:20260604T170000
DTSTAMP:20260422T021040
CREATED:20260329T141331Z
LAST-MODIFIED:20260329T141331Z
UID:2400-1780560000-1780592400@www.100pcsuspension.co.uk
SUMMARY:SNETTERTON  MSVT
DESCRIPTION:
URL:http://www.100pcsuspension.co.uk/event/snetterton-msvt-35/
END:VEVENT
BEGIN:VEVENT
DTSTART;TZID=Europe/London:20260610T080000
DTEND;TZID=Europe/London:20260610T170000
DTSTAMP:20260422T021040
CREATED:20260329T141410Z
LAST-MODIFIED:20260329T141410Z
UID:2402-1781078400-1781110800@www.100pcsuspension.co.uk
SUMMARY:OULTON PARK   MSVT
DESCRIPTION:
URL:http://www.100pcsuspension.co.uk/event/oulton-park-msvt-20/
END:VEVENT
BEGIN:VEVENT
DTSTART;TZID=Europe/London:20260611T080000
DTEND;TZID=Europe/London:20260611T170000
DTSTAMP:20260422T021040
CREATED:20260329T141437Z
LAST-MODIFIED:20260329T141437Z
UID:2404-1781164800-1781197200@www.100pcsuspension.co.uk
SUMMARY:SNETTERTON   MSVT
DESCRIPTION:
URL:http://www.100pcsuspension.co.uk/event/snetterton-msvt-36/
END:VEVENT
BEGIN:VEVENT
DTSTART;TZID=Europe/London:20260613T080000
DTEND;TZID=Europe/London:20260613T170000
DTSTAMP:20260422T021040
CREATED:20260329T141507Z
LAST-MODIFIED:20260329T141507Z
UID:2406-1781337600-1781370000@www.100pcsuspension.co.uk
SUMMARY:SNETTERTON   MSVT
DESCRIPTION:
URL:http://www.100pcsuspension.co.uk/event/snetterton-msvt-37/
END:VEVENT
BEGIN:VEVENT
DTSTART;TZID=Europe/London:20260614T080000
DTEND;TZID=Europe/London:20260615T170000
DTSTAMP:20260422T021040
CREATED:20260421T152724Z
LAST-MODIFIED:20260421T152724Z
UID:2436-1781424000-1781542800@www.100pcsuspension.co.uk
SUMMARY:SNETTERTON  NO LIMITS
DESCRIPTION:
URL:http://www.100pcsuspension.co.uk/event/snetterton-no-limits-3/
END:VEVENT
BEGIN:VEVENT
DTSTART;TZID=Europe/London:20260616T080000
DTEND;TZID=Europe/London:20260616T170000
DTSTAMP:20260422T021040
CREATED:20260329T141538Z
LAST-MODIFIED:20260329T141538Z
UID:2408-1781596800-1781629200@www.100pcsuspension.co.uk
SUMMARY:CADWELL PARK   MSVT
DESCRIPTION:
URL:http://www.100pcsuspension.co.uk/event/cadwell-park-msvt-27/
END:VEVENT
BEGIN:VEVENT
DTSTART;TZID=Europe/London:20260617T080000
DTEND;TZID=Europe/London:20260617T170000
DTSTAMP:20260422T021040
CREATED:20260329T141608Z
LAST-MODIFIED:20260329T141608Z
UID:2410-1781683200-1781715600@www.100pcsuspension.co.uk
SUMMARY:DONINGTON PARK   MSVT
DESCRIPTION:
URL:http://www.100pcsuspension.co.uk/event/donington-park-msvt-39/
END:VEVENT
BEGIN:VEVENT
DTSTART;TZID=Europe/London:20260623T080000
DTEND;TZID=Europe/London:20260623T170000
DTSTAMP:20260422T021040
CREATED:20260329T141638Z
LAST-MODIFIED:20260329T141638Z
UID:2412-1782201600-1782234000@www.100pcsuspension.co.uk
SUMMARY:SNETTERTON   MSVT
DESCRIPTION:
URL:http://www.100pcsuspension.co.uk/event/snetterton-msvt-38/
END:VEVENT
BEGIN:VEVENT
DTSTART;TZID=Europe/London:20260624T080000
DTEND;TZID=Europe/London:20260624T170000
DTSTAMP:20260422T021040
CREATED:20260329T141703Z
LAST-MODIFIED:20260329T141703Z
UID:2414-1782288000-1782320400@www.100pcsuspension.co.uk
SUMMARY:DONINGTON PARK
DESCRIPTION:
URL:http://www.100pcsuspension.co.uk/event/donington-park/
END:VEVENT
BEGIN:VEVENT
DTSTART;TZID=Europe/London:20260626T080000
DTEND;TZID=Europe/London:20260628T170000
DTSTAMP:20260422T021040
CREATED:20251128T194814Z
LAST-MODIFIED:20251128T194814Z
UID:2316-1782460800-1782666000@www.100pcsuspension.co.uk
SUMMARY:BRANDS HATCH   NO LIMITS RACING
DESCRIPTION:
URL:http://www.100pcsuspension.co.uk/event/brands-hatch-no-limits-racing-3/
END:VEVENT
BEGIN:VEVENT
DTSTART;TZID=Europe/London:20260629T080000
DTEND;TZID=Europe/London:20260629T170000
DTSTAMP:20260422T021040
CREATED:20260421T152755Z
LAST-MODIFIED:20260421T152755Z
UID:2438-1782720000-1782752400@www.100pcsuspension.co.uk
SUMMARY:SNETTERTON  NO LIMITS
DESCRIPTION:
URL:http://www.100pcsuspension.co.uk/event/snetterton-no-limits-4/
END:VEVENT
BEGIN:VEVENT
DTSTART;TZID=Europe/London:20260630T080000
DTEND;TZID=Europe/London:20260630T170000
DTSTAMP:20260422T021040
CREATED:20260329T141819Z
LAST-MODIFIED:20260329T141819Z
UID:2416-1782806400-1782838800@www.100pcsuspension.co.uk
SUMMARY:CADWELL PARK   MSVT
DESCRIPTION:
URL:http://www.100pcsuspension.co.uk/event/cadwell-park-msvt-28/
END:VEVENT
BEGIN:VEVENT
DTSTART;TZID=Europe/London:20260701T080000
DTEND;TZID=Europe/London:20260701T170000
DTSTAMP:20260422T021040
CREATED:20260329T142316Z
LAST-MODIFIED:20260329T142316Z
UID:2418-1782892800-1782925200@www.100pcsuspension.co.uk
SUMMARY:SNETTERTON   MSVT
DESCRIPTION:
URL:http://www.100pcsuspension.co.uk/event/snetterton-msvt-39/
END:VEVENT
BEGIN:VEVENT
DTSTART;TZID=Europe/London:20260702T080000
DTEND;TZID=Europe/London:20260702T170000
DTSTAMP:20260422T021040
CREATED:20260421T152834Z
LAST-MODIFIED:20260421T153514Z
UID:2440-1782979200-1783011600@www.100pcsuspension.co.uk
SUMMARY:DONINGTON PARK  NO LIMITS
DESCRIPTION:
URL:http://www.100pcsuspension.co.uk/event/donington-no-limits/
END:VEVENT
BEGIN:VEVENT
DTSTART;TZID=Europe/London:20260707T080000
DTEND;TZID=Europe/London:20260707T170000
DTSTAMP:20260422T021040
CREATED:20260329T142351Z
LAST-MODIFIED:20260329T142351Z
UID:2420-1783411200-1783443600@www.100pcsuspension.co.uk
SUMMARY:DONINGTON PARK   MSVT
DESCRIPTION:
URL:http://www.100pcsuspension.co.uk/event/donington-park-msvt-40/
END:VEVENT
BEGIN:VEVENT
DTSTART;TZID=Europe/London:20260709T080000
DTEND;TZID=Europe/London:20260709T170000
DTSTAMP:20260422T021040
CREATED:20260329T142417Z
LAST-MODIFIED:20260329T142417Z
UID:2422-1783584000-1783616400@www.100pcsuspension.co.uk
SUMMARY:OULTON PARK   MSVT
DESCRIPTION:
URL:http://www.100pcsuspension.co.uk/event/oulton-park-msvt-21/
END:VEVENT
BEGIN:VEVENT
DTSTART;TZID=Europe/London:20260710T080000
DTEND;TZID=Europe/London:20260711T170000
DTSTAMP:20260422T021040
CREATED:20251128T194853Z
LAST-MODIFIED:20251128T194853Z
UID:2318-1783670400-1783789200@www.100pcsuspension.co.uk
SUMMARY:ANGLESEY  NO LIMITS RACING
DESCRIPTION:
URL:http://www.100pcsuspension.co.uk/event/anglesey-no-limits-racing-2/
END:VEVENT
BEGIN:VEVENT
DTSTART;TZID=Europe/London:20260713T080000
DTEND;TZID=Europe/London:20260714T170000
DTSTAMP:20260422T021040
CREATED:20260329T142449Z
LAST-MODIFIED:20260329T142449Z
UID:2424-1783929600-1784048400@www.100pcsuspension.co.uk
SUMMARY:CADWELL APRK   MSVT
DESCRIPTION:
URL:http://www.100pcsuspension.co.uk/event/cadwell-aprk-msvt/
END:VEVENT
BEGIN:VEVENT
DTSTART;TZID=Europe/London:20260715T080000
DTEND;TZID=Europe/London:20260715T170000
DTSTAMP:20260422T021040
CREATED:20260329T142516Z
LAST-MODIFIED:20260329T142516Z
UID:2426-1784102400-1784134800@www.100pcsuspension.co.uk
SUMMARY:SNETTERTON   MSVT
DESCRIPTION:
URL:http://www.100pcsuspension.co.uk/event/snetterton-msvt-40/
END:VEVENT
BEGIN:VEVENT
DTSTART;TZID=Europe/London:20260720T080000
DTEND;TZID=Europe/London:20260720T170000
DTSTAMP:20260422T021040
CREATED:20260421T152911Z
LAST-MODIFIED:20260421T153533Z
UID:2442-1784534400-1784566800@www.100pcsuspension.co.uk
SUMMARY:DONINGTON PARK  NO LIMITS
DESCRIPTION:
URL:http://www.100pcsuspension.co.uk/event/donington-no-limits-2/
END:VEVENT
BEGIN:VEVENT
DTSTART;TZID=Europe/London:20260721T080000
DTEND;TZID=Europe/London:20260721T170000
DTSTAMP:20260422T021040
CREATED:20260329T142543Z
LAST-MODIFIED:20260329T142543Z
UID:2428-1784620800-1784653200@www.100pcsuspension.co.uk
SUMMARY:DONINGTON PARK   MSVT
DESCRIPTION:
URL:http://www.100pcsuspension.co.uk/event/donington-park-msvt-41/
END:VEVENT
BEGIN:VEVENT
DTSTART;TZID=Europe/London:20260722T080000
DTEND;TZID=Europe/London:20260722T170000
DTSTAMP:20260422T021040
CREATED:20260421T152949Z
LAST-MODIFIED:20260421T152949Z
UID:2444-1784707200-1784739600@www.100pcsuspension.co.uk
SUMMARY:OULTON PARK  NO LIMITS
DESCRIPTION:
URL:http://www.100pcsuspension.co.uk/event/oulton-park-no-limits-7/
END:VEVENT
BEGIN:VEVENT
DTSTART;TZID=Europe/London:20260724T080000
DTEND;TZID=Europe/London:20260726T170000
DTSTAMP:20260422T021040
CREATED:20251128T194934Z
LAST-MODIFIED:20251128T194934Z
UID:2320-1784880000-1785085200@www.100pcsuspension.co.uk
SUMMARY:CADWELL PARK   NO LIMITS RACING
DESCRIPTION:
URL:http://www.100pcsuspension.co.uk/event/cadwell-park-no-limits-racing-3/
END:VEVENT
BEGIN:VEVENT
DTSTART;TZID=Europe/London:20260727T080000
DTEND;TZID=Europe/London:20260727T170000
DTSTAMP:20260422T021040
CREATED:20260329T142610Z
LAST-MODIFIED:20260329T142610Z
UID:2430-1785139200-1785171600@www.100pcsuspension.co.uk
SUMMARY:DONINGTON PARK   MSVT
DESCRIPTION:
URL:http://www.100pcsuspension.co.uk/event/donington-park-msvt-42/
END:VEVENT
BEGIN:VEVENT
DTSTART;TZID=Europe/London:20260728T080000
DTEND;TZID=Europe/London:20260728T170000
DTSTAMP:20260422T021040
CREATED:20260329T142635Z
LAST-MODIFIED:20260329T142635Z
UID:2432-1785225600-1785258000@www.100pcsuspension.co.uk
SUMMARY:SNETTERTON   MSVT
DESCRIPTION:
URL:http://www.100pcsuspension.co.uk/event/snetterton-msvt-41/
END:VEVENT
BEGIN:VEVENT
DTSTART;TZID=Europe/London:20260730T080000
DTEND;TZID=Europe/London:20260730T170000
DTSTAMP:20260422T021040
CREATED:20260329T142659Z
LAST-MODIFIED:20260329T142659Z
UID:2434-1785398400-1785430800@www.100pcsuspension.co.uk
SUMMARY:CADWELL PARK   MSVT
DESCRIPTION:
URL:http://www.100pcsuspension.co.uk/event/cadwell-park-msvt-29/
END:VEVENT
BEGIN:VEVENT
DTSTART;TZID=Europe/London:20260809T080000
DTEND;TZID=Europe/London:20260809T170000
DTSTAMP:20260422T021040
CREATED:20251217T195917Z
LAST-MODIFIED:20251217T195917Z
UID:2348-1786262400-1786294800@www.100pcsuspension.co.uk
SUMMARY:SNETTERTON  ORWELL M/C TRACKDAY
DESCRIPTION:
URL:http://www.100pcsuspension.co.uk/event/snetterton-orwell-m-c-trackday/
END:VEVENT
BEGIN:VEVENT
DTSTART;TZID=Europe/London:20260821T080000
DTEND;TZID=Europe/London:20260823T170000
DTSTAMP:20260422T021040
CREATED:20251128T195011Z
LAST-MODIFIED:20251128T195011Z
UID:2322-1787299200-1787504400@www.100pcsuspension.co.uk
SUMMARY:KNOCKHILL  NO LIMITS RACING
DESCRIPTION:
URL:http://www.100pcsuspension.co.uk/event/knockhill-no-limits-racing/
END:VEVENT
BEGIN:VEVENT
DTSTART;TZID=Europe/London:20260918T080000
DTEND;TZID=Europe/London:20260920T170000
DTSTAMP:20260422T021040
CREATED:20251128T195048Z
LAST-MODIFIED:20251128T195048Z
UID:2324-1789718400-1789923600@www.100pcsuspension.co.uk
SUMMARY:ANGLESEY  NO LIMITS RACING
DESCRIPTION:
URL:http://www.100pcsuspension.co.uk/event/anglesey-no-limits-racing-3/
END:VEVENT
BEGIN:VEVENT
DTSTART;TZID=Europe/London:20261009T080000
DTEND;TZID=Europe/London:20261011T170000
DTSTAMP:20260422T021040
CREATED:20251128T195125Z
LAST-MODIFIED:20251128T195125Z
UID:2326-1791532800-1791738000@www.100pcsuspension.co.uk
SUMMARY:DONINGTON PARK   NO LIMITS RACING
DESCRIPTION:
URL:http://www.100pcsuspension.co.uk/event/donington-park-no-limits-racing-5/
END:VEVENT
END:VCALENDAR