BEGIN:VCALENDAR
VERSION:2.0
PRODID:-//100% Suspension - ECPv6.15.20//NONSGML v1.0//EN
CALSCALE:GREGORIAN
METHOD:PUBLISH
X-WR-CALNAME:100% Suspension
X-ORIGINAL-URL:http://www.100pcsuspension.co.uk
X-WR-CALDESC:Events for 100% Suspension
REFRESH-INTERVAL;VALUE=DURATION:PT1H
X-Robots-Tag:noindex
X-PUBLISHED-TTL:PT1H
BEGIN:VTIMEZONE
TZID:Europe/London
BEGIN:DAYLIGHT
TZOFFSETFROM:+0000
TZOFFSETTO:+0100
TZNAME:BST
DTSTART:20240331T010000
END:DAYLIGHT
BEGIN:STANDARD
TZOFFSETFROM:+0100
TZOFFSETTO:+0000
TZNAME:GMT
DTSTART:20241027T010000
END:STANDARD
BEGIN:DAYLIGHT
TZOFFSETFROM:+0000
TZOFFSETTO:+0100
TZNAME:BST
DTSTART:20250330T010000
END:DAYLIGHT
BEGIN:STANDARD
TZOFFSETFROM:+0100
TZOFFSETTO:+0000
TZNAME:GMT
DTSTART:20251026T010000
END:STANDARD
BEGIN:DAYLIGHT
TZOFFSETFROM:+0000
TZOFFSETTO:+0100
TZNAME:BST
DTSTART:20260329T010000
END:DAYLIGHT
BEGIN:STANDARD
TZOFFSETFROM:+0100
TZOFFSETTO:+0000
TZNAME:GMT
DTSTART:20261025T010000
END:STANDARD
END:VTIMEZONE
BEGIN:VEVENT
DTSTART;TZID=Europe/London:20250609T080000
DTEND;TZID=Europe/London:20250609T170000
DTSTAMP:20260422T233231
CREATED:20250324T195036Z
LAST-MODIFIED:20250324T195036Z
UID:2223-1749456000-1749488400@www.100pcsuspension.co.uk
SUMMARY:DONINGTON PARK   NO LIMITS
DESCRIPTION:
URL:http://www.100pcsuspension.co.uk/event/donington-park-no-limits-12/
END:VEVENT
BEGIN:VEVENT
DTSTART;TZID=Europe/London:20250611T080000
DTEND;TZID=Europe/London:20250611T170000
DTSTAMP:20260422T233231
CREATED:20250324T194220Z
LAST-MODIFIED:20250324T194220Z
UID:2207-1749628800-1749661200@www.100pcsuspension.co.uk
SUMMARY:BRANDS HATCH BENNETTS BIKE SOCIAL
DESCRIPTION:
URL:http://www.100pcsuspension.co.uk/event/brands-hatch-bennetts-bike-social/
END:VEVENT
BEGIN:VEVENT
DTSTART;TZID=Europe/London:20250617T080000
DTEND;TZID=Europe/London:20250617T170000
DTSTAMP:20260422T233231
CREATED:20250324T194254Z
LAST-MODIFIED:20250324T194254Z
UID:2209-1750147200-1750179600@www.100pcsuspension.co.uk
SUMMARY:OULTON PARK   MSVT
DESCRIPTION:
URL:http://www.100pcsuspension.co.uk/event/oulton-park-msvt-12/
END:VEVENT
BEGIN:VEVENT
DTSTART;TZID=Europe/London:20250619T080000
DTEND;TZID=Europe/London:20250622T170000
DTSTAMP:20260422T233231
CREATED:20241106T205602Z
LAST-MODIFIED:20241106T205602Z
UID:2107-1750320000-1750611600@www.100pcsuspension.co.uk
SUMMARY:SNETTERTON   BSB RD 3
DESCRIPTION:
URL:http://www.100pcsuspension.co.uk/event/snetterton-bsb-rd-3/
END:VEVENT
BEGIN:VEVENT
DTSTART;TZID=Europe/London:20250623T080000
DTEND;TZID=Europe/London:20250623T170000
DTSTAMP:20260422T233231
CREATED:20250324T194324Z
LAST-MODIFIED:20250324T194324Z
UID:2211-1750665600-1750698000@www.100pcsuspension.co.uk
SUMMARY:CADWELL PARK   MSVT
DESCRIPTION:
URL:http://www.100pcsuspension.co.uk/event/cadwell-park-msvt-18/
END:VEVENT
BEGIN:VEVENT
DTSTART;TZID=Europe/London:20250624T080000
DTEND;TZID=Europe/London:20250624T170000
DTSTAMP:20260422T233231
CREATED:20250324T194355Z
LAST-MODIFIED:20250324T194355Z
UID:2213-1750752000-1750784400@www.100pcsuspension.co.uk
SUMMARY:CADWELL PARK  BENNETTS BIKE SOCIAL
DESCRIPTION:
URL:http://www.100pcsuspension.co.uk/event/cadwell-park-bennetts-bike-social-2/
END:VEVENT
BEGIN:VEVENT
DTSTART;TZID=Europe/London:20250625T080000
DTEND;TZID=Europe/London:20250625T170000
DTSTAMP:20260422T233231
CREATED:20250324T194423Z
LAST-MODIFIED:20250324T194423Z
UID:2215-1750838400-1750870800@www.100pcsuspension.co.uk
SUMMARY:SNETTERTON   MSVT
DESCRIPTION:
URL:http://www.100pcsuspension.co.uk/event/snetterton-msvt-25/
END:VEVENT
BEGIN:VEVENT
DTSTART;TZID=Europe/London:20250626T080000
DTEND;TZID=Europe/London:20250626T170000
DTSTAMP:20260422T233231
CREATED:20250107T164459Z
LAST-MODIFIED:20250107T164459Z
UID:2163-1750924800-1750957200@www.100pcsuspension.co.uk
SUMMARY:DONINGTON PARK  NLR TEST DAY
DESCRIPTION:
URL:http://www.100pcsuspension.co.uk/event/donington-park-nlr-test-day/
END:VEVENT
BEGIN:VEVENT
DTSTART;TZID=Europe/London:20250626T080000
DTEND;TZID=Europe/London:20250626T170000
DTSTAMP:20260422T233231
CREATED:20250324T195101Z
LAST-MODIFIED:20250324T195101Z
UID:2225-1750924800-1750957200@www.100pcsuspension.co.uk
SUMMARY:DONINGTON PARK  NO LIMITS
DESCRIPTION:
URL:http://www.100pcsuspension.co.uk/event/donington-park-no-limits-13/
END:VEVENT
BEGIN:VEVENT
DTSTART;TZID=Europe/London:20250627T080000
DTEND;TZID=Europe/London:20250629T170000
DTSTAMP:20260422T233231
CREATED:20241106T205646Z
LAST-MODIFIED:20241106T205646Z
UID:2109-1751011200-1751216400@www.100pcsuspension.co.uk
SUMMARY:DONINGTON PARK  NO LIMITS RACING
DESCRIPTION:
URL:http://www.100pcsuspension.co.uk/event/donington-park-no-limits-racing-2/
END:VEVENT
BEGIN:VEVENT
DTSTART;TZID=Europe/London:20250630T080000
DTEND;TZID=Europe/London:20250630T170000
DTSTAMP:20260422T233231
CREATED:20250324T195130Z
LAST-MODIFIED:20250324T195130Z
UID:2227-1751270400-1751302800@www.100pcsuspension.co.uk
SUMMARY:DONINGTON PARK   NO LIMITS
DESCRIPTION:
URL:http://www.100pcsuspension.co.uk/event/donington-park-no-limits-14/
END:VEVENT
BEGIN:VEVENT
DTSTART;TZID=Europe/London:20250703T080000
DTEND;TZID=Europe/London:20250706T170000
DTSTAMP:20260422T233231
CREATED:20241106T205800Z
LAST-MODIFIED:20241106T205800Z
UID:2111-1751529600-1751821200@www.100pcsuspension.co.uk
SUMMARY:KNOCKHILL   BSB RD 4
DESCRIPTION:
URL:http://www.100pcsuspension.co.uk/event/knockhill-bsb-rd-4-2/
END:VEVENT
BEGIN:VEVENT
DTSTART;TZID=Europe/London:20250709T080000
DTEND;TZID=Europe/London:20250709T170000
DTSTAMP:20260422T233231
CREATED:20250421T153702Z
LAST-MODIFIED:20250421T153702Z
UID:2230-1752048000-1752080400@www.100pcsuspension.co.uk
SUMMARY:BRANDS HATCH   BENNETTS BIKE SOCIAL
DESCRIPTION:
URL:http://www.100pcsuspension.co.uk/event/brands-hatch-bennetts-bike-social-2/
END:VEVENT
BEGIN:VEVENT
DTSTART;TZID=Europe/London:20250710T080000
DTEND;TZID=Europe/London:20250713T170000
DTSTAMP:20260422T233231
CREATED:20241106T205845Z
LAST-MODIFIED:20241106T205845Z
UID:2113-1752134400-1752426000@www.100pcsuspension.co.uk
SUMMARY:DONINGTON PARK   WSB
DESCRIPTION:
URL:http://www.100pcsuspension.co.uk/event/donington-park-wsb-2/
END:VEVENT
BEGIN:VEVENT
DTSTART;TZID=Europe/London:20250714T080000
DTEND;TZID=Europe/London:20250714T170000
DTSTAMP:20260422T233231
CREATED:20250421T153733Z
LAST-MODIFIED:20250421T153733Z
UID:2232-1752480000-1752512400@www.100pcsuspension.co.uk
SUMMARY:SNETTERTON  MSVT
DESCRIPTION:
URL:http://www.100pcsuspension.co.uk/event/snetterton-msvt-26/
END:VEVENT
BEGIN:VEVENT
DTSTART;TZID=Europe/London:20250715T080000
DTEND;TZID=Europe/London:20250715T170000
DTSTAMP:20260422T233231
CREATED:20250421T153807Z
LAST-MODIFIED:20250421T153807Z
UID:2234-1752566400-1752598800@www.100pcsuspension.co.uk
SUMMARY:OULTON PARK  BENNETTS BIKE SOCIAL
DESCRIPTION:
URL:http://www.100pcsuspension.co.uk/event/oulton-park-bennetts-bike-social-2/
END:VEVENT
BEGIN:VEVENT
DTSTART;TZID=Europe/London:20250716T080000
DTEND;TZID=Europe/London:20250716T170000
DTSTAMP:20260422T233231
CREATED:20250421T153829Z
LAST-MODIFIED:20250421T153829Z
UID:2236-1752652800-1752685200@www.100pcsuspension.co.uk
SUMMARY:OULTON PARK   MSVT
DESCRIPTION:
URL:http://www.100pcsuspension.co.uk/event/oulton-park-msvt-13/
END:VEVENT
BEGIN:VEVENT
DTSTART;TZID=Europe/London:20250717T080000
DTEND;TZID=Europe/London:20250720T170000
DTSTAMP:20260422T233231
CREATED:20241106T205919Z
LAST-MODIFIED:20241106T205919Z
UID:2115-1752739200-1753030800@www.100pcsuspension.co.uk
SUMMARY:ANGLESEY  NO LIMITS RACING
DESCRIPTION:
URL:http://www.100pcsuspension.co.uk/event/anglesey-no-limits-racing/
END:VEVENT
BEGIN:VEVENT
DTSTART;TZID=Europe/London:20250722T080000
DTEND;TZID=Europe/London:20250722T170000
DTSTAMP:20260422T233231
CREATED:20250421T153900Z
LAST-MODIFIED:20250421T153900Z
UID:2238-1753171200-1753203600@www.100pcsuspension.co.uk
SUMMARY:DONINGTON PARK    MSVT
DESCRIPTION:
URL:http://www.100pcsuspension.co.uk/event/donington-park-msvt-27/
END:VEVENT
BEGIN:VEVENT
DTSTART;TZID=Europe/London:20250724T080000
DTEND;TZID=Europe/London:20250727T170000
DTSTAMP:20260422T233231
CREATED:20241106T205955Z
LAST-MODIFIED:20241106T205955Z
UID:2117-1753344000-1753635600@www.100pcsuspension.co.uk
SUMMARY:BRANDS HATCH  BSB RD 5
DESCRIPTION:
URL:http://www.100pcsuspension.co.uk/event/brands-hatch-bsb-rd-5/
END:VEVENT
BEGIN:VEVENT
DTSTART;TZID=Europe/London:20250728T080000
DTEND;TZID=Europe/London:20250728T170000
DTSTAMP:20260422T233231
CREATED:20250421T153925Z
LAST-MODIFIED:20250421T153925Z
UID:2240-1753689600-1753722000@www.100pcsuspension.co.uk
SUMMARY:SNETTERTON   MSVT
DESCRIPTION:
URL:http://www.100pcsuspension.co.uk/event/snetterton-msvt-27/
END:VEVENT
BEGIN:VEVENT
DTSTART;TZID=Europe/London:20250804T080000
DTEND;TZID=Europe/London:20250805T170000
DTSTAMP:20260422T233231
CREATED:20250421T154009Z
LAST-MODIFIED:20250421T154009Z
UID:2242-1754294400-1754413200@www.100pcsuspension.co.uk
SUMMARY:CADWELL PARK   MSVT
DESCRIPTION:
URL:http://www.100pcsuspension.co.uk/event/cadwell-park-msvt-19/
END:VEVENT
BEGIN:VEVENT
DTSTART;TZID=Europe/London:20250807T080000
DTEND;TZID=Europe/London:20250810T170000
DTSTAMP:20260422T233231
CREATED:20241106T210032Z
LAST-MODIFIED:20241106T210032Z
UID:2119-1754553600-1754845200@www.100pcsuspension.co.uk
SUMMARY:THRUXTON  BSB RD 6
DESCRIPTION:
URL:http://www.100pcsuspension.co.uk/event/thruxton-bsb-rd-6/
END:VEVENT
BEGIN:VEVENT
DTSTART;TZID=Europe/London:20250811T080000
DTEND;TZID=Europe/London:20250812T170000
DTSTAMP:20260422T233231
CREATED:20250421T154057Z
LAST-MODIFIED:20250421T154057Z
UID:2246-1754899200-1755018000@www.100pcsuspension.co.uk
SUMMARY:CADWELL PARK  MSVT
DESCRIPTION:
URL:http://www.100pcsuspension.co.uk/event/cadwell-park-msvt-20/
END:VEVENT
BEGIN:VEVENT
DTSTART;TZID=Europe/London:20250813T080000
DTEND;TZID=Europe/London:20250813T170000
DTSTAMP:20260422T233231
CREATED:20250421T154127Z
LAST-MODIFIED:20250421T154127Z
UID:2248-1755072000-1755104400@www.100pcsuspension.co.uk
SUMMARY:DONINGTON PARK  BENNETTS BIKE SOCIAL
DESCRIPTION:
URL:http://www.100pcsuspension.co.uk/event/donington-park-bennetts-bike-social-3/
END:VEVENT
BEGIN:VEVENT
DTSTART;TZID=Europe/London:20250815T080000
DTEND;TZID=Europe/London:20250817T170000
DTSTAMP:20260422T233231
CREATED:20241106T210107Z
LAST-MODIFIED:20241106T210107Z
UID:2121-1755244800-1755450000@www.100pcsuspension.co.uk
SUMMARY:CADWELL PARK  NO LIMITS RACING
DESCRIPTION:
URL:http://www.100pcsuspension.co.uk/event/cadwell-park-no-limits-racing-2/
END:VEVENT
BEGIN:VEVENT
DTSTART;TZID=Europe/London:20250818T080000
DTEND;TZID=Europe/London:20250818T170000
DTSTAMP:20260422T233231
CREATED:20250421T154155Z
LAST-MODIFIED:20250421T154155Z
UID:2250-1755504000-1755536400@www.100pcsuspension.co.uk
SUMMARY:DONINGTON PARK  MSVT
DESCRIPTION:
URL:http://www.100pcsuspension.co.uk/event/donington-park-msvt-28/
END:VEVENT
BEGIN:VEVENT
DTSTART;TZID=Europe/London:20250819T080000
DTEND;TZID=Europe/London:20250819T170000
DTSTAMP:20260422T233231
CREATED:20250421T154221Z
LAST-MODIFIED:20250421T154221Z
UID:2252-1755590400-1755622800@www.100pcsuspension.co.uk
SUMMARY:DONINGTON PARK  NO LIMITS
DESCRIPTION:
URL:http://www.100pcsuspension.co.uk/event/donington-park-no-limits-15/
END:VEVENT
BEGIN:VEVENT
DTSTART;TZID=Europe/London:20250820T080000
DTEND;TZID=Europe/London:20250820T170000
DTSTAMP:20260422T233231
CREATED:20250421T154243Z
LAST-MODIFIED:20250421T154243Z
UID:2254-1755676800-1755709200@www.100pcsuspension.co.uk
SUMMARY:OULTON PARK   MSVT
DESCRIPTION:
URL:http://www.100pcsuspension.co.uk/event/oulton-park-msvt-15/
END:VEVENT
BEGIN:VEVENT
DTSTART;TZID=Europe/London:20250822T080000
DTEND;TZID=Europe/London:20250825T170000
DTSTAMP:20260422T233231
CREATED:20241106T210211Z
LAST-MODIFIED:20241106T210211Z
UID:2123-1755849600-1756141200@www.100pcsuspension.co.uk
SUMMARY:CADWELL PARK   BSB RD 7
DESCRIPTION:
URL:http://www.100pcsuspension.co.uk/event/cadwell-park-bsb-rd-7/
END:VEVENT
END:VCALENDAR